BEGIN:VCALENDAR
VERSION:2.0
PRODID:-//Gold Coast Area - ECPv6.15.20//NONSGML v1.0//EN
CALSCALE:GREGORIAN
METHOD:PUBLISH
X-WR-CALNAME:Gold Coast Area
X-ORIGINAL-URL:https://goldcoastna.org
X-WR-CALDESC:Events for Gold Coast Area
REFRESH-INTERVAL;VALUE=DURATION:PT1H
X-Robots-Tag:noindex
X-PUBLISHED-TTL:PT1H
BEGIN:VTIMEZONE
TZID:America/New_York
BEGIN:DAYLIGHT
TZOFFSETFROM:-0500
TZOFFSETTO:-0400
TZNAME:EDT
DTSTART:20250309T070000
END:DAYLIGHT
BEGIN:STANDARD
TZOFFSETFROM:-0400
TZOFFSETTO:-0500
TZNAME:EST
DTSTART:20251102T060000
END:STANDARD
BEGIN:DAYLIGHT
TZOFFSETFROM:-0500
TZOFFSETTO:-0400
TZNAME:EDT
DTSTART:20260308T070000
END:DAYLIGHT
BEGIN:STANDARD
TZOFFSETFROM:-0400
TZOFFSETTO:-0500
TZNAME:EST
DTSTART:20261101T060000
END:STANDARD
BEGIN:DAYLIGHT
TZOFFSETFROM:-0500
TZOFFSETTO:-0400
TZNAME:EDT
DTSTART:20270314T070000
END:DAYLIGHT
BEGIN:STANDARD
TZOFFSETFROM:-0400
TZOFFSETTO:-0500
TZNAME:EST
DTSTART:20271107T060000
END:STANDARD
END:VTIMEZONE
BEGIN:VEVENT
DTSTART;TZID=America/New_York:20260421T200000
DTEND;TZID=America/New_York:20260421T210000
DTSTAMP:20260420T153502
CREATED:20260414T201935Z
LAST-MODIFIED:20260414T201935Z
UID:10001108-1776801600-1776805200@goldcoastna.org
SUMMARY:Women of substance meeting moved
DESCRIPTION:Women of substance meeting changed locations and time.\nEvery Tuesday 8-9pm\nAt Safety town\n520 Ramblewood Dr\nCoral springs\, FL 33071
URL:https://goldcoastna.org/event/women-of-substance-meeting-moved/2026-04-21/
ATTACH;FMTTYPE=image/jpeg:https://goldcoastna.org/wp-content/uploads/2025/12/1000041515.jpg
END:VEVENT
BEGIN:VEVENT
DTSTART;TZID=America/New_York:20260426T190000
DTEND;TZID=America/New_York:20260426T220000
DTSTAMP:20260420T153502
CREATED:20260413T032913Z
LAST-MODIFIED:20260413T032913Z
UID:10001373-1777230000-1777240800@goldcoastna.org
SUMMARY:GCCNA Comedy Show
DESCRIPTION:Meeting at 7pm\nShow at 8pm\nTickets $20
URL:https://goldcoastna.org/event/gccna-comedy-show/
LOCATION:Boca Black Box\, 8221 Glades Rd\, Boca Raton\, FL\, 33434\, United States
ORGANIZER;CN="GCCNA":MAILTO:rhondacoren@gmail.com
END:VEVENT
BEGIN:VEVENT
DTSTART;TZID=America/New_York:20260427T190000
DTEND;TZID=America/New_York:20260427T213000
DTSTAMP:20260420T153502
CREATED:20260407T221226Z
LAST-MODIFIED:20260407T221226Z
UID:10001370-1777316400-1777325400@goldcoastna.org
SUMMARY:Monday Night Live Anniversary
DESCRIPTION:One year group anniversary
URL:https://goldcoastna.org/event/monday-night-live-anniversary/
ATTACH;FMTTYPE=image/jpeg:https://goldcoastna.org/wp-content/uploads/2026/04/1000142766.jpeg
END:VEVENT
END:VCALENDAR