BEGIN:VCALENDAR
VERSION:2.0
PRODID:-//Gold Coast Area - ECPv6.15.20//NONSGML v1.0//EN
CALSCALE:GREGORIAN
METHOD:PUBLISH
X-WR-CALNAME:Gold Coast Area
X-ORIGINAL-URL:https://goldcoastna.org
X-WR-CALDESC:Events for Gold Coast Area
REFRESH-INTERVAL;VALUE=DURATION:PT1H
X-Robots-Tag:noindex
X-PUBLISHED-TTL:PT1H
BEGIN:VTIMEZONE
TZID:America/New_York
BEGIN:DAYLIGHT
TZOFFSETFROM:-0500
TZOFFSETTO:-0400
TZNAME:EDT
DTSTART:20250309T070000
END:DAYLIGHT
BEGIN:STANDARD
TZOFFSETFROM:-0400
TZOFFSETTO:-0500
TZNAME:EST
DTSTART:20251102T060000
END:STANDARD
BEGIN:DAYLIGHT
TZOFFSETFROM:-0500
TZOFFSETTO:-0400
TZNAME:EDT
DTSTART:20260308T070000
END:DAYLIGHT
BEGIN:STANDARD
TZOFFSETFROM:-0400
TZOFFSETTO:-0500
TZNAME:EST
DTSTART:20261101T060000
END:STANDARD
BEGIN:DAYLIGHT
TZOFFSETFROM:-0500
TZOFFSETTO:-0400
TZNAME:EDT
DTSTART:20270314T070000
END:DAYLIGHT
BEGIN:STANDARD
TZOFFSETFROM:-0400
TZOFFSETTO:-0500
TZNAME:EST
DTSTART:20271107T060000
END:STANDARD
END:VTIMEZONE
BEGIN:VEVENT
DTSTART;TZID=America/New_York:20260326T190000
DTEND;TZID=America/New_York:20260326T200000
DTSTAMP:20260422T131322
CREATED:20250728T154035Z
LAST-MODIFIED:20250728T154036Z
UID:10000660-1774551600-1774555200@goldcoastna.org
SUMMARY:Public Relations Subcommittee
DESCRIPTION:
URL:https://goldcoastna.org/event/public-relations-subcommittee-2/2026-03-26/
LOCATION:SPIRITUAL CONNECTION OUTREACH COMMUNITY CENTER\, 5975 SUNRISE BOULEVARD\, SUITE 210\, SUNRISE\, FL\, 33313\, United States
CATEGORIES:Service Committees
ATTACH;FMTTYPE=image/png:https://goldcoastna.org/wp-content/uploads/2024/10/GoldCoastAreaSubcommittees.png
END:VEVENT
BEGIN:VEVENT
DTSTART;TZID=America/New_York:20260328T110000
DTEND;TZID=America/New_York:20260328T130000
DTSTAMP:20260422T131322
CREATED:20260126T181521Z
LAST-MODIFIED:20260126T181521Z
UID:10001359-1774695600-1774702800@goldcoastna.org
SUMMARY:Public Relations Poster Day
DESCRIPTION:GOLD COAST AREA PUBLIC RELATIONS POSTER DAY \nWe’ll meet at 11:00 AM on Saturday\, March 28th\, 2026 at the Colee Hammock Park 1500 Brickell Dr\, Fort Lauderdale\, FL 33301\nWe will have PIZZA AND DRINKS!!!! \nPlease help us carry the message to the addict who still suffers. We will be spending 2-3 hours posting helpline posters in various places throughout the community. \nNo experience necessary. \nOnly a white key tag is needed to get involved! \nFor more information:\nPlease email public-relations@goldcoastna.org or call 888-524-1777
URL:https://goldcoastna.org/event/public-relations-poster-day/
ATTACH;FMTTYPE=image/jpeg:https://goldcoastna.org/wp-content/uploads/2026/01/IMG_0773.jpeg
END:VEVENT
END:VCALENDAR