BEGIN:VCALENDAR
VERSION:2.0
PRODID:-//Gold Coast Area - ECPv6.15.20//NONSGML v1.0//EN
CALSCALE:GREGORIAN
METHOD:PUBLISH
X-ORIGINAL-URL:https://goldcoastna.org
X-WR-CALDESC:Events for Gold Coast Area
REFRESH-INTERVAL;VALUE=DURATION:PT1H
X-Robots-Tag:noindex
X-PUBLISHED-TTL:PT1H
BEGIN:VTIMEZONE
TZID:America/New_York
BEGIN:DAYLIGHT
TZOFFSETFROM:-0500
TZOFFSETTO:-0400
TZNAME:EDT
DTSTART:20290311T070000
END:DAYLIGHT
BEGIN:STANDARD
TZOFFSETFROM:-0400
TZOFFSETTO:-0500
TZNAME:EST
DTSTART:20291104T060000
END:STANDARD
BEGIN:DAYLIGHT
TZOFFSETFROM:-0500
TZOFFSETTO:-0400
TZNAME:EDT
DTSTART:20300310T070000
END:DAYLIGHT
BEGIN:STANDARD
TZOFFSETFROM:-0400
TZOFFSETTO:-0500
TZNAME:EST
DTSTART:20301103T060000
END:STANDARD
BEGIN:DAYLIGHT
TZOFFSETFROM:-0500
TZOFFSETTO:-0400
TZNAME:EDT
DTSTART:20310309T070000
END:DAYLIGHT
BEGIN:STANDARD
TZOFFSETFROM:-0400
TZOFFSETTO:-0500
TZNAME:EST
DTSTART:20311102T060000
END:STANDARD
END:VTIMEZONE
BEGIN:VEVENT
DTSTART;TZID=America/New_York:20300514T200000
DTEND;TZID=America/New_York:20300514T210000
DTSTAMP:20260421T034830
CREATED:20260414T201935Z
LAST-MODIFIED:20260414T201935Z
UID:10001320-1905019200-1905022800@goldcoastna.org
SUMMARY:Women of substance meeting moved
DESCRIPTION:Women of substance meeting changed locations and time.\nEvery Tuesday 8-9pm\nAt Safety town\n520 Ramblewood Dr\nCoral springs\, FL 33071
URL:https://goldcoastna.org/event/women-of-substance-meeting-moved/2030-05-14/
ATTACH;FMTTYPE=image/jpeg:https://goldcoastna.org/wp-content/uploads/2025/12/1000041515.jpg
END:VEVENT
BEGIN:VEVENT
DTSTART;TZID=America/New_York:20300521T200000
DTEND;TZID=America/New_York:20300521T210000
DTSTAMP:20260421T034830
CREATED:20260414T201935Z
LAST-MODIFIED:20260414T201935Z
UID:10001321-1905624000-1905627600@goldcoastna.org
SUMMARY:Women of substance meeting moved
DESCRIPTION:Women of substance meeting changed locations and time.\nEvery Tuesday 8-9pm\nAt Safety town\n520 Ramblewood Dr\nCoral springs\, FL 33071
URL:https://goldcoastna.org/event/women-of-substance-meeting-moved/2030-05-21/
ATTACH;FMTTYPE=image/jpeg:https://goldcoastna.org/wp-content/uploads/2025/12/1000041515.jpg
END:VEVENT
BEGIN:VEVENT
DTSTART;TZID=America/New_York:20300528T200000
DTEND;TZID=America/New_York:20300528T210000
DTSTAMP:20260421T034830
CREATED:20260414T201935Z
LAST-MODIFIED:20260414T201935Z
UID:10001322-1906228800-1906232400@goldcoastna.org
SUMMARY:Women of substance meeting moved
DESCRIPTION:Women of substance meeting changed locations and time.\nEvery Tuesday 8-9pm\nAt Safety town\n520 Ramblewood Dr\nCoral springs\, FL 33071
URL:https://goldcoastna.org/event/women-of-substance-meeting-moved/2030-05-28/
ATTACH;FMTTYPE=image/jpeg:https://goldcoastna.org/wp-content/uploads/2025/12/1000041515.jpg
END:VEVENT
BEGIN:VEVENT
DTSTART;TZID=America/New_York:20300530T190000
DTEND;TZID=America/New_York:20300530T200000
DTSTAMP:20260421T034830
CREATED:20250728T154035Z
LAST-MODIFIED:20250728T154036Z
UID:10000710-1906398000-1906401600@goldcoastna.org
SUMMARY:Public Relations Subcommittee
DESCRIPTION:
URL:https://goldcoastna.org/event/public-relations-subcommittee-2/2030-05-30/
LOCATION:SPIRITUAL CONNECTION OUTREACH COMMUNITY CENTER\, 5975 SUNRISE BOULEVARD\, SUITE 210\, SUNRISE\, FL\, 33313\, United States
CATEGORIES:Service Committees
ATTACH;FMTTYPE=image/png:https://goldcoastna.org/wp-content/uploads/2024/10/GoldCoastAreaSubcommittees.png
END:VEVENT
BEGIN:VEVENT
DTSTART;TZID=America/New_York:20300603T190000
DTEND;TZID=America/New_York:20300603T200000
DTSTAMP:20260421T034830
CREATED:20241001T170043Z
LAST-MODIFIED:20250724T131839Z
UID:10000591-1906743600-1906747200@goldcoastna.org
SUMMARY:Hospitals and Institutions Subcommittee
DESCRIPTION:Orientation is from 6:00 pm to 7:00 pm \nSubcommittee is 7:00 pm to 8:00 pm
URL:https://goldcoastna.org/event/hospitals-and-institutions-subcommittee/2030-06-03/
LOCATION:River of Grass Unitarian Universalist Congregation\, 11850 West State Road 84 Suite 9\, Davie\, 33325\, United States
CATEGORIES:Service Committees
ATTACH;FMTTYPE=image/png:https://goldcoastna.org/wp-content/uploads/2024/10/GoldCoastAreaSubcommittees.png
END:VEVENT
BEGIN:VEVENT
DTSTART;TZID=America/New_York:20300604T190000
DTEND;TZID=America/New_York:20300604T200000
DTSTAMP:20260421T034830
CREATED:20240928T161409Z
LAST-MODIFIED:20250728T154359Z
UID:10000789-1906830000-1906833600@goldcoastna.org
SUMMARY:Activities Subcommittee Meeting
DESCRIPTION:Activities Subcommittee meets every first and third Tuesday
URL:https://goldcoastna.org/event/activities-subcommittee-meeting/2030-06-04/
LOCATION:Dunkin Donuts\, 1405 SW 26 Ave\, Pompano Beach\, FL\, 33069\, United States
CATEGORIES:Activities Subcommittee
ATTACH;FMTTYPE=image/png:https://goldcoastna.org/wp-content/uploads/2024/10/GoldCoastAreaSubcommittees.png
END:VEVENT
BEGIN:VEVENT
DTSTART;TZID=America/New_York:20300604T200000
DTEND;TZID=America/New_York:20300604T210000
DTSTAMP:20260421T034830
CREATED:20260414T201935Z
LAST-MODIFIED:20260414T201935Z
UID:10001323-1906833600-1906837200@goldcoastna.org
SUMMARY:Women of substance meeting moved
DESCRIPTION:Women of substance meeting changed locations and time.\nEvery Tuesday 8-9pm\nAt Safety town\n520 Ramblewood Dr\nCoral springs\, FL 33071
URL:https://goldcoastna.org/event/women-of-substance-meeting-moved/2030-06-04/
ATTACH;FMTTYPE=image/jpeg:https://goldcoastna.org/wp-content/uploads/2025/12/1000041515.jpg
END:VEVENT
BEGIN:VEVENT
DTSTART;TZID=America/New_York:20300609T130000
DTEND;TZID=America/New_York:20300609T170000
DTSTAMP:20260421T034830
CREATED:20241001T155510Z
LAST-MODIFIED:20250728T154238Z
UID:10000781-1907240400-1907254800@goldcoastna.org
SUMMARY:Area Service Committee
DESCRIPTION:Area service committees are ultimately responsible to the groups they serve. Narcotics Anonymous groups send group service representatives (GSRs) to serve on the area committee. While still maintaining final responsibility and authority for area services\, they invest enough delegated authority in their GSRs—and through them\, in the area committee—for the necessary work to get done. NA groups also send money to the area committee\, money needed to coordinate panels\, maintain phonelines\, and conduct public information activities. Through their contributions of money and manpower\, the groups exercise both their responsibility and their authority for NA services. How does the area service committee relate in turn to NA’s regional and world services? In much the same way as the group relates to the area committee: through carefully selected representatives who are delegated the authority necessary for effective service.
URL:https://goldcoastna.org/event/area-service-committee/2030-06-09/
LOCATION:Our Place II\, 8447 W. McNab Rd\, Tamarac\, FL\, 33321\, United States
CATEGORIES:Service Committees
END:VEVENT
BEGIN:VEVENT
DTSTART;TZID=America/New_York:20300611T190000
DTEND;TZID=America/New_York:20300611T210000
DTSTAMP:20260421T034830
CREATED:20241001T163033Z
LAST-MODIFIED:20250728T174857Z
UID:10000797-1907434800-1907442000@goldcoastna.org
SUMMARY:Convention Subcommittee (GCCNA)
DESCRIPTION:
URL:https://goldcoastna.org/event/convention-subcommittee-gccna/2030-06-11/
LOCATION:SPIRITUAL CONNECTION OUTREACH COMMUNITY CENTER\, 5975 SUNRISE BOULEVARD\, SUITE 210\, SUNRISE\, FL\, 33313\, United States
CATEGORIES:Service Committees
ATTACH;FMTTYPE=image/png:https://goldcoastna.org/wp-content/uploads/2024/10/GoldCoastAreaSubcommittees.png
END:VEVENT
BEGIN:VEVENT
DTSTART;TZID=America/New_York:20300611T200000
DTEND;TZID=America/New_York:20300611T210000
DTSTAMP:20260421T034830
CREATED:20260414T201935Z
LAST-MODIFIED:20260414T201935Z
UID:10001324-1907438400-1907442000@goldcoastna.org
SUMMARY:Women of substance meeting moved
DESCRIPTION:Women of substance meeting changed locations and time.\nEvery Tuesday 8-9pm\nAt Safety town\n520 Ramblewood Dr\nCoral springs\, FL 33071
URL:https://goldcoastna.org/event/women-of-substance-meeting-moved/2030-06-11/
ATTACH;FMTTYPE=image/jpeg:https://goldcoastna.org/wp-content/uploads/2025/12/1000041515.jpg
END:VEVENT
BEGIN:VEVENT
DTSTART;TZID=America/New_York:20300618T200000
DTEND;TZID=America/New_York:20300618T210000
DTSTAMP:20260421T034830
CREATED:20260414T201935Z
LAST-MODIFIED:20260414T201935Z
UID:10001325-1908043200-1908046800@goldcoastna.org
SUMMARY:Women of substance meeting moved
DESCRIPTION:Women of substance meeting changed locations and time.\nEvery Tuesday 8-9pm\nAt Safety town\n520 Ramblewood Dr\nCoral springs\, FL 33071
URL:https://goldcoastna.org/event/women-of-substance-meeting-moved/2030-06-18/
ATTACH;FMTTYPE=image/jpeg:https://goldcoastna.org/wp-content/uploads/2025/12/1000041515.jpg
END:VEVENT
BEGIN:VEVENT
DTSTART;TZID=America/New_York:20300625T200000
DTEND;TZID=America/New_York:20300625T210000
DTSTAMP:20260421T034830
CREATED:20260414T201935Z
LAST-MODIFIED:20260414T201935Z
UID:10001326-1908648000-1908651600@goldcoastna.org
SUMMARY:Women of substance meeting moved
DESCRIPTION:Women of substance meeting changed locations and time.\nEvery Tuesday 8-9pm\nAt Safety town\n520 Ramblewood Dr\nCoral springs\, FL 33071
URL:https://goldcoastna.org/event/women-of-substance-meeting-moved/2030-06-25/
ATTACH;FMTTYPE=image/jpeg:https://goldcoastna.org/wp-content/uploads/2025/12/1000041515.jpg
END:VEVENT
BEGIN:VEVENT
DTSTART;TZID=America/New_York:20300627T190000
DTEND;TZID=America/New_York:20300627T200000
DTSTAMP:20260421T034830
CREATED:20250728T154035Z
LAST-MODIFIED:20250728T154036Z
UID:10000711-1908817200-1908820800@goldcoastna.org
SUMMARY:Public Relations Subcommittee
DESCRIPTION:
URL:https://goldcoastna.org/event/public-relations-subcommittee-2/2030-06-27/
LOCATION:SPIRITUAL CONNECTION OUTREACH COMMUNITY CENTER\, 5975 SUNRISE BOULEVARD\, SUITE 210\, SUNRISE\, FL\, 33313\, United States
CATEGORIES:Service Committees
ATTACH;FMTTYPE=image/png:https://goldcoastna.org/wp-content/uploads/2024/10/GoldCoastAreaSubcommittees.png
END:VEVENT
BEGIN:VEVENT
DTSTART;TZID=America/New_York:20300701T190000
DTEND;TZID=America/New_York:20300701T200000
DTSTAMP:20260421T034830
CREATED:20241001T170043Z
LAST-MODIFIED:20250724T131839Z
UID:10000592-1909162800-1909166400@goldcoastna.org
SUMMARY:Hospitals and Institutions Subcommittee
DESCRIPTION:Orientation is from 6:00 pm to 7:00 pm \nSubcommittee is 7:00 pm to 8:00 pm
URL:https://goldcoastna.org/event/hospitals-and-institutions-subcommittee/2030-07-01/
LOCATION:River of Grass Unitarian Universalist Congregation\, 11850 West State Road 84 Suite 9\, Davie\, 33325\, United States
CATEGORIES:Service Committees
ATTACH;FMTTYPE=image/png:https://goldcoastna.org/wp-content/uploads/2024/10/GoldCoastAreaSubcommittees.png
END:VEVENT
BEGIN:VEVENT
DTSTART;TZID=America/New_York:20300702T190000
DTEND;TZID=America/New_York:20300702T200000
DTSTAMP:20260421T034830
CREATED:20240928T161409Z
LAST-MODIFIED:20250728T154359Z
UID:10000790-1909249200-1909252800@goldcoastna.org
SUMMARY:Activities Subcommittee Meeting
DESCRIPTION:Activities Subcommittee meets every first and third Tuesday
URL:https://goldcoastna.org/event/activities-subcommittee-meeting/2030-07-02/
LOCATION:Dunkin Donuts\, 1405 SW 26 Ave\, Pompano Beach\, FL\, 33069\, United States
CATEGORIES:Activities Subcommittee
ATTACH;FMTTYPE=image/png:https://goldcoastna.org/wp-content/uploads/2024/10/GoldCoastAreaSubcommittees.png
END:VEVENT
BEGIN:VEVENT
DTSTART;TZID=America/New_York:20300702T200000
DTEND;TZID=America/New_York:20300702T210000
DTSTAMP:20260421T034830
CREATED:20260414T201935Z
LAST-MODIFIED:20260414T201935Z
UID:10001327-1909252800-1909256400@goldcoastna.org
SUMMARY:Women of substance meeting moved
DESCRIPTION:Women of substance meeting changed locations and time.\nEvery Tuesday 8-9pm\nAt Safety town\n520 Ramblewood Dr\nCoral springs\, FL 33071
URL:https://goldcoastna.org/event/women-of-substance-meeting-moved/2030-07-02/
ATTACH;FMTTYPE=image/jpeg:https://goldcoastna.org/wp-content/uploads/2025/12/1000041515.jpg
END:VEVENT
BEGIN:VEVENT
DTSTART;TZID=America/New_York:20300709T190000
DTEND;TZID=America/New_York:20300709T210000
DTSTAMP:20260421T034830
CREATED:20241001T163033Z
LAST-MODIFIED:20250728T174857Z
UID:10000798-1909854000-1909861200@goldcoastna.org
SUMMARY:Convention Subcommittee (GCCNA)
DESCRIPTION:
URL:https://goldcoastna.org/event/convention-subcommittee-gccna/2030-07-09/
LOCATION:SPIRITUAL CONNECTION OUTREACH COMMUNITY CENTER\, 5975 SUNRISE BOULEVARD\, SUITE 210\, SUNRISE\, FL\, 33313\, United States
CATEGORIES:Service Committees
ATTACH;FMTTYPE=image/png:https://goldcoastna.org/wp-content/uploads/2024/10/GoldCoastAreaSubcommittees.png
END:VEVENT
BEGIN:VEVENT
DTSTART;TZID=America/New_York:20300709T200000
DTEND;TZID=America/New_York:20300709T210000
DTSTAMP:20260421T034830
CREATED:20260414T201935Z
LAST-MODIFIED:20260414T201935Z
UID:10001328-1909857600-1909861200@goldcoastna.org
SUMMARY:Women of substance meeting moved
DESCRIPTION:Women of substance meeting changed locations and time.\nEvery Tuesday 8-9pm\nAt Safety town\n520 Ramblewood Dr\nCoral springs\, FL 33071
URL:https://goldcoastna.org/event/women-of-substance-meeting-moved/2030-07-09/
ATTACH;FMTTYPE=image/jpeg:https://goldcoastna.org/wp-content/uploads/2025/12/1000041515.jpg
END:VEVENT
BEGIN:VEVENT
DTSTART;TZID=America/New_York:20300714T130000
DTEND;TZID=America/New_York:20300714T170000
DTSTAMP:20260421T034830
CREATED:20241001T155510Z
LAST-MODIFIED:20250728T154238Z
UID:10000782-1910264400-1910278800@goldcoastna.org
SUMMARY:Area Service Committee
DESCRIPTION:Area service committees are ultimately responsible to the groups they serve. Narcotics Anonymous groups send group service representatives (GSRs) to serve on the area committee. While still maintaining final responsibility and authority for area services\, they invest enough delegated authority in their GSRs—and through them\, in the area committee—for the necessary work to get done. NA groups also send money to the area committee\, money needed to coordinate panels\, maintain phonelines\, and conduct public information activities. Through their contributions of money and manpower\, the groups exercise both their responsibility and their authority for NA services. How does the area service committee relate in turn to NA’s regional and world services? In much the same way as the group relates to the area committee: through carefully selected representatives who are delegated the authority necessary for effective service.
URL:https://goldcoastna.org/event/area-service-committee/2030-07-14/
LOCATION:Our Place II\, 8447 W. McNab Rd\, Tamarac\, FL\, 33321\, United States
CATEGORIES:Service Committees
END:VEVENT
BEGIN:VEVENT
DTSTART;TZID=America/New_York:20300716T200000
DTEND;TZID=America/New_York:20300716T210000
DTSTAMP:20260421T034830
CREATED:20260414T201935Z
LAST-MODIFIED:20260414T201935Z
UID:10001329-1910462400-1910466000@goldcoastna.org
SUMMARY:Women of substance meeting moved
DESCRIPTION:Women of substance meeting changed locations and time.\nEvery Tuesday 8-9pm\nAt Safety town\n520 Ramblewood Dr\nCoral springs\, FL 33071
URL:https://goldcoastna.org/event/women-of-substance-meeting-moved/2030-07-16/
ATTACH;FMTTYPE=image/jpeg:https://goldcoastna.org/wp-content/uploads/2025/12/1000041515.jpg
END:VEVENT
BEGIN:VEVENT
DTSTART;TZID=America/New_York:20300723T200000
DTEND;TZID=America/New_York:20300723T210000
DTSTAMP:20260421T034830
CREATED:20260414T201935Z
LAST-MODIFIED:20260414T201935Z
UID:10001330-1911067200-1911070800@goldcoastna.org
SUMMARY:Women of substance meeting moved
DESCRIPTION:Women of substance meeting changed locations and time.\nEvery Tuesday 8-9pm\nAt Safety town\n520 Ramblewood Dr\nCoral springs\, FL 33071
URL:https://goldcoastna.org/event/women-of-substance-meeting-moved/2030-07-23/
ATTACH;FMTTYPE=image/jpeg:https://goldcoastna.org/wp-content/uploads/2025/12/1000041515.jpg
END:VEVENT
BEGIN:VEVENT
DTSTART;TZID=America/New_York:20300725T190000
DTEND;TZID=America/New_York:20300725T200000
DTSTAMP:20260421T034830
CREATED:20250728T154035Z
LAST-MODIFIED:20250728T154036Z
UID:10000712-1911236400-1911240000@goldcoastna.org
SUMMARY:Public Relations Subcommittee
DESCRIPTION:
URL:https://goldcoastna.org/event/public-relations-subcommittee-2/2030-07-25/
LOCATION:SPIRITUAL CONNECTION OUTREACH COMMUNITY CENTER\, 5975 SUNRISE BOULEVARD\, SUITE 210\, SUNRISE\, FL\, 33313\, United States
CATEGORIES:Service Committees
ATTACH;FMTTYPE=image/png:https://goldcoastna.org/wp-content/uploads/2024/10/GoldCoastAreaSubcommittees.png
END:VEVENT
BEGIN:VEVENT
DTSTART;TZID=America/New_York:20300730T200000
DTEND;TZID=America/New_York:20300730T210000
DTSTAMP:20260421T034830
CREATED:20260414T201935Z
LAST-MODIFIED:20260414T201935Z
UID:10001331-1911672000-1911675600@goldcoastna.org
SUMMARY:Women of substance meeting moved
DESCRIPTION:Women of substance meeting changed locations and time.\nEvery Tuesday 8-9pm\nAt Safety town\n520 Ramblewood Dr\nCoral springs\, FL 33071
URL:https://goldcoastna.org/event/women-of-substance-meeting-moved/2030-07-30/
ATTACH;FMTTYPE=image/jpeg:https://goldcoastna.org/wp-content/uploads/2025/12/1000041515.jpg
END:VEVENT
BEGIN:VEVENT
DTSTART;TZID=America/New_York:20300805T190000
DTEND;TZID=America/New_York:20300805T200000
DTSTAMP:20260421T034830
CREATED:20241001T170043Z
LAST-MODIFIED:20250724T131839Z
UID:10000808-1912186800-1912190400@goldcoastna.org
SUMMARY:Hospitals and Institutions Subcommittee
DESCRIPTION:Orientation is from 6:00 pm to 7:00 pm \nSubcommittee is 7:00 pm to 8:00 pm
URL:https://goldcoastna.org/event/hospitals-and-institutions-subcommittee/2030-08-05/
LOCATION:River of Grass Unitarian Universalist Congregation\, 11850 West State Road 84 Suite 9\, Davie\, 33325\, United States
CATEGORIES:Service Committees
ATTACH;FMTTYPE=image/png:https://goldcoastna.org/wp-content/uploads/2024/10/GoldCoastAreaSubcommittees.png
END:VEVENT
BEGIN:VEVENT
DTSTART;TZID=America/New_York:20300806T190000
DTEND;TZID=America/New_York:20300806T200000
DTSTAMP:20260421T034830
CREATED:20240928T161409Z
LAST-MODIFIED:20250728T154359Z
UID:10000805-1912273200-1912276800@goldcoastna.org
SUMMARY:Activities Subcommittee Meeting
DESCRIPTION:Activities Subcommittee meets every first and third Tuesday
URL:https://goldcoastna.org/event/activities-subcommittee-meeting/2030-08-06/
LOCATION:Dunkin Donuts\, 1405 SW 26 Ave\, Pompano Beach\, FL\, 33069\, United States
CATEGORIES:Activities Subcommittee
ATTACH;FMTTYPE=image/png:https://goldcoastna.org/wp-content/uploads/2024/10/GoldCoastAreaSubcommittees.png
END:VEVENT
BEGIN:VEVENT
DTSTART;TZID=America/New_York:20300806T200000
DTEND;TZID=America/New_York:20300806T210000
DTSTAMP:20260421T034830
CREATED:20260414T201935Z
LAST-MODIFIED:20260414T201935Z
UID:10001332-1912276800-1912280400@goldcoastna.org
SUMMARY:Women of substance meeting moved
DESCRIPTION:Women of substance meeting changed locations and time.\nEvery Tuesday 8-9pm\nAt Safety town\n520 Ramblewood Dr\nCoral springs\, FL 33071
URL:https://goldcoastna.org/event/women-of-substance-meeting-moved/2030-08-06/
ATTACH;FMTTYPE=image/jpeg:https://goldcoastna.org/wp-content/uploads/2025/12/1000041515.jpg
END:VEVENT
BEGIN:VEVENT
DTSTART;TZID=America/New_York:20300811T130000
DTEND;TZID=America/New_York:20300811T170000
DTSTAMP:20260421T034830
CREATED:20241001T155510Z
LAST-MODIFIED:20250728T154238Z
UID:10000814-1912683600-1912698000@goldcoastna.org
SUMMARY:Area Service Committee
DESCRIPTION:Area service committees are ultimately responsible to the groups they serve. Narcotics Anonymous groups send group service representatives (GSRs) to serve on the area committee. While still maintaining final responsibility and authority for area services\, they invest enough delegated authority in their GSRs—and through them\, in the area committee—for the necessary work to get done. NA groups also send money to the area committee\, money needed to coordinate panels\, maintain phonelines\, and conduct public information activities. Through their contributions of money and manpower\, the groups exercise both their responsibility and their authority for NA services. How does the area service committee relate in turn to NA’s regional and world services? In much the same way as the group relates to the area committee: through carefully selected representatives who are delegated the authority necessary for effective service.
URL:https://goldcoastna.org/event/area-service-committee/2030-08-11/
LOCATION:Our Place II\, 8447 W. McNab Rd\, Tamarac\, FL\, 33321\, United States
CATEGORIES:Service Committees
END:VEVENT
BEGIN:VEVENT
DTSTART;TZID=America/New_York:20300813T190000
DTEND;TZID=America/New_York:20300813T210000
DTSTAMP:20260421T034830
CREATED:20241001T163033Z
LAST-MODIFIED:20250728T174857Z
UID:10000811-1912878000-1912885200@goldcoastna.org
SUMMARY:Convention Subcommittee (GCCNA)
DESCRIPTION:
URL:https://goldcoastna.org/event/convention-subcommittee-gccna/2030-08-13/
LOCATION:SPIRITUAL CONNECTION OUTREACH COMMUNITY CENTER\, 5975 SUNRISE BOULEVARD\, SUITE 210\, SUNRISE\, FL\, 33313\, United States
CATEGORIES:Service Committees
ATTACH;FMTTYPE=image/png:https://goldcoastna.org/wp-content/uploads/2024/10/GoldCoastAreaSubcommittees.png
END:VEVENT
BEGIN:VEVENT
DTSTART;TZID=America/New_York:20300813T200000
DTEND;TZID=America/New_York:20300813T210000
DTSTAMP:20260421T034830
CREATED:20260414T201935Z
LAST-MODIFIED:20260414T201935Z
UID:10001333-1912881600-1912885200@goldcoastna.org
SUMMARY:Women of substance meeting moved
DESCRIPTION:Women of substance meeting changed locations and time.\nEvery Tuesday 8-9pm\nAt Safety town\n520 Ramblewood Dr\nCoral springs\, FL 33071
URL:https://goldcoastna.org/event/women-of-substance-meeting-moved/2030-08-13/
ATTACH;FMTTYPE=image/jpeg:https://goldcoastna.org/wp-content/uploads/2025/12/1000041515.jpg
END:VEVENT
BEGIN:VEVENT
DTSTART;TZID=America/New_York:20300820T200000
DTEND;TZID=America/New_York:20300820T210000
DTSTAMP:20260421T034830
CREATED:20260414T201935Z
LAST-MODIFIED:20260414T201935Z
UID:10001334-1913486400-1913490000@goldcoastna.org
SUMMARY:Women of substance meeting moved
DESCRIPTION:Women of substance meeting changed locations and time.\nEvery Tuesday 8-9pm\nAt Safety town\n520 Ramblewood Dr\nCoral springs\, FL 33071
URL:https://goldcoastna.org/event/women-of-substance-meeting-moved/2030-08-20/
ATTACH;FMTTYPE=image/jpeg:https://goldcoastna.org/wp-content/uploads/2025/12/1000041515.jpg
END:VEVENT
END:VCALENDAR