BEGIN:VCALENDAR
VERSION:2.0
PRODID:-//Gold Coast Area - ECPv6.15.20//NONSGML v1.0//EN
CALSCALE:GREGORIAN
METHOD:PUBLISH
X-ORIGINAL-URL:https://goldcoastna.org
X-WR-CALDESC:Events for Gold Coast Area
REFRESH-INTERVAL;VALUE=DURATION:PT1H
X-Robots-Tag:noindex
X-PUBLISHED-TTL:PT1H
BEGIN:VTIMEZONE
TZID:America/New_York
BEGIN:DAYLIGHT
TZOFFSETFROM:-0500
TZOFFSETTO:-0400
TZNAME:EDT
DTSTART:20280312T070000
END:DAYLIGHT
BEGIN:STANDARD
TZOFFSETFROM:-0400
TZOFFSETTO:-0500
TZNAME:EST
DTSTART:20281105T060000
END:STANDARD
BEGIN:DAYLIGHT
TZOFFSETFROM:-0500
TZOFFSETTO:-0400
TZNAME:EDT
DTSTART:20290311T070000
END:DAYLIGHT
BEGIN:STANDARD
TZOFFSETFROM:-0400
TZOFFSETTO:-0500
TZNAME:EST
DTSTART:20291104T060000
END:STANDARD
BEGIN:DAYLIGHT
TZOFFSETFROM:-0500
TZOFFSETTO:-0400
TZNAME:EDT
DTSTART:20300310T070000
END:DAYLIGHT
BEGIN:STANDARD
TZOFFSETFROM:-0400
TZOFFSETTO:-0500
TZNAME:EST
DTSTART:20301103T060000
END:STANDARD
BEGIN:DAYLIGHT
TZOFFSETFROM:-0500
TZOFFSETTO:-0400
TZNAME:EDT
DTSTART:20310309T070000
END:DAYLIGHT
BEGIN:STANDARD
TZOFFSETFROM:-0400
TZOFFSETTO:-0500
TZNAME:EST
DTSTART:20311102T060000
END:STANDARD
END:VTIMEZONE
BEGIN:VEVENT
DTSTART;TZID=America/New_York:20291211T190000
DTEND;TZID=America/New_York:20291211T210000
DTSTAMP:20260420T203625
CREATED:20241001T163033Z
LAST-MODIFIED:20250728T174857Z
UID:10000791-1891710000-1891717200@goldcoastna.org
SUMMARY:Convention Subcommittee (GCCNA)
DESCRIPTION:
URL:https://goldcoastna.org/event/convention-subcommittee-gccna/2029-12-11/
LOCATION:SPIRITUAL CONNECTION OUTREACH COMMUNITY CENTER\, 5975 SUNRISE BOULEVARD\, SUITE 210\, SUNRISE\, FL\, 33313\, United States
CATEGORIES:Service Committees
ATTACH;FMTTYPE=image/png:https://goldcoastna.org/wp-content/uploads/2024/10/GoldCoastAreaSubcommittees.png
END:VEVENT
BEGIN:VEVENT
DTSTART;TZID=America/New_York:20291211T200000
DTEND;TZID=America/New_York:20291211T210000
DTSTAMP:20260420T203625
CREATED:20260414T201935Z
LAST-MODIFIED:20260414T201935Z
UID:10001298-1891713600-1891717200@goldcoastna.org
SUMMARY:Women of substance meeting moved
DESCRIPTION:Women of substance meeting changed locations and time.\nEvery Tuesday 8-9pm\nAt Safety town\n520 Ramblewood Dr\nCoral springs\, FL 33071
URL:https://goldcoastna.org/event/women-of-substance-meeting-moved/2029-12-11/
ATTACH;FMTTYPE=image/jpeg:https://goldcoastna.org/wp-content/uploads/2025/12/1000041515.jpg
END:VEVENT
BEGIN:VEVENT
DTSTART;TZID=America/New_York:20291218T200000
DTEND;TZID=America/New_York:20291218T210000
DTSTAMP:20260420T203625
CREATED:20260414T201935Z
LAST-MODIFIED:20260414T201935Z
UID:10001299-1892318400-1892322000@goldcoastna.org
SUMMARY:Women of substance meeting moved
DESCRIPTION:Women of substance meeting changed locations and time.\nEvery Tuesday 8-9pm\nAt Safety town\n520 Ramblewood Dr\nCoral springs\, FL 33071
URL:https://goldcoastna.org/event/women-of-substance-meeting-moved/2029-12-18/
ATTACH;FMTTYPE=image/jpeg:https://goldcoastna.org/wp-content/uploads/2025/12/1000041515.jpg
END:VEVENT
BEGIN:VEVENT
DTSTART;TZID=America/New_York:20291225T200000
DTEND;TZID=America/New_York:20291225T210000
DTSTAMP:20260420T203625
CREATED:20260414T201935Z
LAST-MODIFIED:20260414T201935Z
UID:10001300-1892923200-1892926800@goldcoastna.org
SUMMARY:Women of substance meeting moved
DESCRIPTION:Women of substance meeting changed locations and time.\nEvery Tuesday 8-9pm\nAt Safety town\n520 Ramblewood Dr\nCoral springs\, FL 33071
URL:https://goldcoastna.org/event/women-of-substance-meeting-moved/2029-12-25/
ATTACH;FMTTYPE=image/jpeg:https://goldcoastna.org/wp-content/uploads/2025/12/1000041515.jpg
END:VEVENT
BEGIN:VEVENT
DTSTART;TZID=America/New_York:20291227T190000
DTEND;TZID=America/New_York:20291227T200000
DTSTAMP:20260420T203625
CREATED:20250728T154035Z
LAST-MODIFIED:20250728T154036Z
UID:10000705-1893092400-1893096000@goldcoastna.org
SUMMARY:Public Relations Subcommittee
DESCRIPTION:
URL:https://goldcoastna.org/event/public-relations-subcommittee-2/2029-12-27/
LOCATION:SPIRITUAL CONNECTION OUTREACH COMMUNITY CENTER\, 5975 SUNRISE BOULEVARD\, SUITE 210\, SUNRISE\, FL\, 33313\, United States
CATEGORIES:Service Committees
ATTACH;FMTTYPE=image/png:https://goldcoastna.org/wp-content/uploads/2024/10/GoldCoastAreaSubcommittees.png
END:VEVENT
BEGIN:VEVENT
DTSTART;TZID=America/New_York:20300101T190000
DTEND;TZID=America/New_York:20300101T200000
DTSTAMP:20260420T203625
CREATED:20240928T161409Z
LAST-MODIFIED:20250728T154359Z
UID:10000784-1893524400-1893528000@goldcoastna.org
SUMMARY:Activities Subcommittee Meeting
DESCRIPTION:Activities Subcommittee meets every first and third Tuesday
URL:https://goldcoastna.org/event/activities-subcommittee-meeting/2030-01-01/
LOCATION:Dunkin Donuts\, 1405 SW 26 Ave\, Pompano Beach\, FL\, 33069\, United States
CATEGORIES:Activities Subcommittee
ATTACH;FMTTYPE=image/png:https://goldcoastna.org/wp-content/uploads/2024/10/GoldCoastAreaSubcommittees.png
END:VEVENT
BEGIN:VEVENT
DTSTART;TZID=America/New_York:20300101T200000
DTEND;TZID=America/New_York:20300101T210000
DTSTAMP:20260420T203625
CREATED:20260414T201935Z
LAST-MODIFIED:20260414T201935Z
UID:10001301-1893528000-1893531600@goldcoastna.org
SUMMARY:Women of substance meeting moved
DESCRIPTION:Women of substance meeting changed locations and time.\nEvery Tuesday 8-9pm\nAt Safety town\n520 Ramblewood Dr\nCoral springs\, FL 33071
URL:https://goldcoastna.org/event/women-of-substance-meeting-moved/2030-01-01/
ATTACH;FMTTYPE=image/jpeg:https://goldcoastna.org/wp-content/uploads/2025/12/1000041515.jpg
END:VEVENT
BEGIN:VEVENT
DTSTART;TZID=America/New_York:20300107T190000
DTEND;TZID=America/New_York:20300107T200000
DTSTAMP:20260420T203625
CREATED:20241001T170043Z
LAST-MODIFIED:20250724T131839Z
UID:10000586-1894042800-1894046400@goldcoastna.org
SUMMARY:Hospitals and Institutions Subcommittee
DESCRIPTION:Orientation is from 6:00 pm to 7:00 pm \nSubcommittee is 7:00 pm to 8:00 pm
URL:https://goldcoastna.org/event/hospitals-and-institutions-subcommittee/2030-01-07/
LOCATION:River of Grass Unitarian Universalist Congregation\, 11850 West State Road 84 Suite 9\, Davie\, 33325\, United States
CATEGORIES:Service Committees
ATTACH;FMTTYPE=image/png:https://goldcoastna.org/wp-content/uploads/2024/10/GoldCoastAreaSubcommittees.png
END:VEVENT
BEGIN:VEVENT
DTSTART;TZID=America/New_York:20300108T190000
DTEND;TZID=America/New_York:20300108T210000
DTSTAMP:20260420T203625
CREATED:20241001T163033Z
LAST-MODIFIED:20250728T174857Z
UID:10000792-1894129200-1894136400@goldcoastna.org
SUMMARY:Convention Subcommittee (GCCNA)
DESCRIPTION:
URL:https://goldcoastna.org/event/convention-subcommittee-gccna/2030-01-08/
LOCATION:SPIRITUAL CONNECTION OUTREACH COMMUNITY CENTER\, 5975 SUNRISE BOULEVARD\, SUITE 210\, SUNRISE\, FL\, 33313\, United States
CATEGORIES:Service Committees
ATTACH;FMTTYPE=image/png:https://goldcoastna.org/wp-content/uploads/2024/10/GoldCoastAreaSubcommittees.png
END:VEVENT
BEGIN:VEVENT
DTSTART;TZID=America/New_York:20300108T200000
DTEND;TZID=America/New_York:20300108T210000
DTSTAMP:20260420T203625
CREATED:20260414T201935Z
LAST-MODIFIED:20260414T201935Z
UID:10001302-1894132800-1894136400@goldcoastna.org
SUMMARY:Women of substance meeting moved
DESCRIPTION:Women of substance meeting changed locations and time.\nEvery Tuesday 8-9pm\nAt Safety town\n520 Ramblewood Dr\nCoral springs\, FL 33071
URL:https://goldcoastna.org/event/women-of-substance-meeting-moved/2030-01-08/
ATTACH;FMTTYPE=image/jpeg:https://goldcoastna.org/wp-content/uploads/2025/12/1000041515.jpg
END:VEVENT
BEGIN:VEVENT
DTSTART;TZID=America/New_York:20300113T130000
DTEND;TZID=America/New_York:20300113T170000
DTSTAMP:20260420T203625
CREATED:20241001T155510Z
LAST-MODIFIED:20250728T154238Z
UID:10000776-1894539600-1894554000@goldcoastna.org
SUMMARY:Area Service Committee
DESCRIPTION:Area service committees are ultimately responsible to the groups they serve. Narcotics Anonymous groups send group service representatives (GSRs) to serve on the area committee. While still maintaining final responsibility and authority for area services\, they invest enough delegated authority in their GSRs—and through them\, in the area committee—for the necessary work to get done. NA groups also send money to the area committee\, money needed to coordinate panels\, maintain phonelines\, and conduct public information activities. Through their contributions of money and manpower\, the groups exercise both their responsibility and their authority for NA services. How does the area service committee relate in turn to NA’s regional and world services? In much the same way as the group relates to the area committee: through carefully selected representatives who are delegated the authority necessary for effective service.
URL:https://goldcoastna.org/event/area-service-committee/2030-01-13/
LOCATION:Our Place II\, 8447 W. McNab Rd\, Tamarac\, FL\, 33321\, United States
CATEGORIES:Service Committees
END:VEVENT
BEGIN:VEVENT
DTSTART;TZID=America/New_York:20300115T200000
DTEND;TZID=America/New_York:20300115T210000
DTSTAMP:20260420T203625
CREATED:20260414T201935Z
LAST-MODIFIED:20260414T201935Z
UID:10001303-1894737600-1894741200@goldcoastna.org
SUMMARY:Women of substance meeting moved
DESCRIPTION:Women of substance meeting changed locations and time.\nEvery Tuesday 8-9pm\nAt Safety town\n520 Ramblewood Dr\nCoral springs\, FL 33071
URL:https://goldcoastna.org/event/women-of-substance-meeting-moved/2030-01-15/
ATTACH;FMTTYPE=image/jpeg:https://goldcoastna.org/wp-content/uploads/2025/12/1000041515.jpg
END:VEVENT
BEGIN:VEVENT
DTSTART;TZID=America/New_York:20300122T200000
DTEND;TZID=America/New_York:20300122T210000
DTSTAMP:20260420T203625
CREATED:20260414T201935Z
LAST-MODIFIED:20260414T201935Z
UID:10001304-1895342400-1895346000@goldcoastna.org
SUMMARY:Women of substance meeting moved
DESCRIPTION:Women of substance meeting changed locations and time.\nEvery Tuesday 8-9pm\nAt Safety town\n520 Ramblewood Dr\nCoral springs\, FL 33071
URL:https://goldcoastna.org/event/women-of-substance-meeting-moved/2030-01-22/
ATTACH;FMTTYPE=image/jpeg:https://goldcoastna.org/wp-content/uploads/2025/12/1000041515.jpg
END:VEVENT
BEGIN:VEVENT
DTSTART;TZID=America/New_York:20300129T200000
DTEND;TZID=America/New_York:20300129T210000
DTSTAMP:20260420T203625
CREATED:20260414T201935Z
LAST-MODIFIED:20260414T201935Z
UID:10001305-1895947200-1895950800@goldcoastna.org
SUMMARY:Women of substance meeting moved
DESCRIPTION:Women of substance meeting changed locations and time.\nEvery Tuesday 8-9pm\nAt Safety town\n520 Ramblewood Dr\nCoral springs\, FL 33071
URL:https://goldcoastna.org/event/women-of-substance-meeting-moved/2030-01-29/
ATTACH;FMTTYPE=image/jpeg:https://goldcoastna.org/wp-content/uploads/2025/12/1000041515.jpg
END:VEVENT
BEGIN:VEVENT
DTSTART;TZID=America/New_York:20300131T190000
DTEND;TZID=America/New_York:20300131T200000
DTSTAMP:20260420T203625
CREATED:20250728T154035Z
LAST-MODIFIED:20250728T154036Z
UID:10000706-1896116400-1896120000@goldcoastna.org
SUMMARY:Public Relations Subcommittee
DESCRIPTION:
URL:https://goldcoastna.org/event/public-relations-subcommittee-2/2030-01-31/
LOCATION:SPIRITUAL CONNECTION OUTREACH COMMUNITY CENTER\, 5975 SUNRISE BOULEVARD\, SUITE 210\, SUNRISE\, FL\, 33313\, United States
CATEGORIES:Service Committees
ATTACH;FMTTYPE=image/png:https://goldcoastna.org/wp-content/uploads/2024/10/GoldCoastAreaSubcommittees.png
END:VEVENT
BEGIN:VEVENT
DTSTART;TZID=America/New_York:20300204T190000
DTEND;TZID=America/New_York:20300204T200000
DTSTAMP:20260420T203625
CREATED:20241001T170043Z
LAST-MODIFIED:20250724T131839Z
UID:10000587-1896462000-1896465600@goldcoastna.org
SUMMARY:Hospitals and Institutions Subcommittee
DESCRIPTION:Orientation is from 6:00 pm to 7:00 pm \nSubcommittee is 7:00 pm to 8:00 pm
URL:https://goldcoastna.org/event/hospitals-and-institutions-subcommittee/2030-02-04/
LOCATION:River of Grass Unitarian Universalist Congregation\, 11850 West State Road 84 Suite 9\, Davie\, 33325\, United States
CATEGORIES:Service Committees
ATTACH;FMTTYPE=image/png:https://goldcoastna.org/wp-content/uploads/2024/10/GoldCoastAreaSubcommittees.png
END:VEVENT
BEGIN:VEVENT
DTSTART;TZID=America/New_York:20300205T190000
DTEND;TZID=America/New_York:20300205T200000
DTSTAMP:20260420T203625
CREATED:20240928T161409Z
LAST-MODIFIED:20250728T154359Z
UID:10000785-1896548400-1896552000@goldcoastna.org
SUMMARY:Activities Subcommittee Meeting
DESCRIPTION:Activities Subcommittee meets every first and third Tuesday
URL:https://goldcoastna.org/event/activities-subcommittee-meeting/2030-02-05/
LOCATION:Dunkin Donuts\, 1405 SW 26 Ave\, Pompano Beach\, FL\, 33069\, United States
CATEGORIES:Activities Subcommittee
ATTACH;FMTTYPE=image/png:https://goldcoastna.org/wp-content/uploads/2024/10/GoldCoastAreaSubcommittees.png
END:VEVENT
BEGIN:VEVENT
DTSTART;TZID=America/New_York:20300205T200000
DTEND;TZID=America/New_York:20300205T210000
DTSTAMP:20260420T203625
CREATED:20260414T201935Z
LAST-MODIFIED:20260414T201935Z
UID:10001306-1896552000-1896555600@goldcoastna.org
SUMMARY:Women of substance meeting moved
DESCRIPTION:Women of substance meeting changed locations and time.\nEvery Tuesday 8-9pm\nAt Safety town\n520 Ramblewood Dr\nCoral springs\, FL 33071
URL:https://goldcoastna.org/event/women-of-substance-meeting-moved/2030-02-05/
ATTACH;FMTTYPE=image/jpeg:https://goldcoastna.org/wp-content/uploads/2025/12/1000041515.jpg
END:VEVENT
BEGIN:VEVENT
DTSTART;TZID=America/New_York:20300210T130000
DTEND;TZID=America/New_York:20300210T170000
DTSTAMP:20260420T203625
CREATED:20241001T155510Z
LAST-MODIFIED:20250728T154238Z
UID:10000777-1896958800-1896973200@goldcoastna.org
SUMMARY:Area Service Committee
DESCRIPTION:Area service committees are ultimately responsible to the groups they serve. Narcotics Anonymous groups send group service representatives (GSRs) to serve on the area committee. While still maintaining final responsibility and authority for area services\, they invest enough delegated authority in their GSRs—and through them\, in the area committee—for the necessary work to get done. NA groups also send money to the area committee\, money needed to coordinate panels\, maintain phonelines\, and conduct public information activities. Through their contributions of money and manpower\, the groups exercise both their responsibility and their authority for NA services. How does the area service committee relate in turn to NA’s regional and world services? In much the same way as the group relates to the area committee: through carefully selected representatives who are delegated the authority necessary for effective service.
URL:https://goldcoastna.org/event/area-service-committee/2030-02-10/
LOCATION:Our Place II\, 8447 W. McNab Rd\, Tamarac\, FL\, 33321\, United States
CATEGORIES:Service Committees
END:VEVENT
BEGIN:VEVENT
DTSTART;TZID=America/New_York:20300212T190000
DTEND;TZID=America/New_York:20300212T210000
DTSTAMP:20260420T203625
CREATED:20241001T163033Z
LAST-MODIFIED:20250728T174857Z
UID:10000793-1897153200-1897160400@goldcoastna.org
SUMMARY:Convention Subcommittee (GCCNA)
DESCRIPTION:
URL:https://goldcoastna.org/event/convention-subcommittee-gccna/2030-02-12/
LOCATION:SPIRITUAL CONNECTION OUTREACH COMMUNITY CENTER\, 5975 SUNRISE BOULEVARD\, SUITE 210\, SUNRISE\, FL\, 33313\, United States
CATEGORIES:Service Committees
ATTACH;FMTTYPE=image/png:https://goldcoastna.org/wp-content/uploads/2024/10/GoldCoastAreaSubcommittees.png
END:VEVENT
BEGIN:VEVENT
DTSTART;TZID=America/New_York:20300212T200000
DTEND;TZID=America/New_York:20300212T210000
DTSTAMP:20260420T203625
CREATED:20260414T201935Z
LAST-MODIFIED:20260414T201935Z
UID:10001307-1897156800-1897160400@goldcoastna.org
SUMMARY:Women of substance meeting moved
DESCRIPTION:Women of substance meeting changed locations and time.\nEvery Tuesday 8-9pm\nAt Safety town\n520 Ramblewood Dr\nCoral springs\, FL 33071
URL:https://goldcoastna.org/event/women-of-substance-meeting-moved/2030-02-12/
ATTACH;FMTTYPE=image/jpeg:https://goldcoastna.org/wp-content/uploads/2025/12/1000041515.jpg
END:VEVENT
BEGIN:VEVENT
DTSTART;TZID=America/New_York:20300219T200000
DTEND;TZID=America/New_York:20300219T210000
DTSTAMP:20260420T203625
CREATED:20260414T201935Z
LAST-MODIFIED:20260414T201935Z
UID:10001308-1897761600-1897765200@goldcoastna.org
SUMMARY:Women of substance meeting moved
DESCRIPTION:Women of substance meeting changed locations and time.\nEvery Tuesday 8-9pm\nAt Safety town\n520 Ramblewood Dr\nCoral springs\, FL 33071
URL:https://goldcoastna.org/event/women-of-substance-meeting-moved/2030-02-19/
ATTACH;FMTTYPE=image/jpeg:https://goldcoastna.org/wp-content/uploads/2025/12/1000041515.jpg
END:VEVENT
BEGIN:VEVENT
DTSTART;TZID=America/New_York:20300226T200000
DTEND;TZID=America/New_York:20300226T210000
DTSTAMP:20260420T203625
CREATED:20260414T201935Z
LAST-MODIFIED:20260414T201935Z
UID:10001309-1898366400-1898370000@goldcoastna.org
SUMMARY:Women of substance meeting moved
DESCRIPTION:Women of substance meeting changed locations and time.\nEvery Tuesday 8-9pm\nAt Safety town\n520 Ramblewood Dr\nCoral springs\, FL 33071
URL:https://goldcoastna.org/event/women-of-substance-meeting-moved/2030-02-26/
ATTACH;FMTTYPE=image/jpeg:https://goldcoastna.org/wp-content/uploads/2025/12/1000041515.jpg
END:VEVENT
BEGIN:VEVENT
DTSTART;TZID=America/New_York:20300228T190000
DTEND;TZID=America/New_York:20300228T200000
DTSTAMP:20260420T203625
CREATED:20250728T154035Z
LAST-MODIFIED:20250728T154036Z
UID:10000707-1898535600-1898539200@goldcoastna.org
SUMMARY:Public Relations Subcommittee
DESCRIPTION:
URL:https://goldcoastna.org/event/public-relations-subcommittee-2/2030-02-28/
LOCATION:SPIRITUAL CONNECTION OUTREACH COMMUNITY CENTER\, 5975 SUNRISE BOULEVARD\, SUITE 210\, SUNRISE\, FL\, 33313\, United States
CATEGORIES:Service Committees
ATTACH;FMTTYPE=image/png:https://goldcoastna.org/wp-content/uploads/2024/10/GoldCoastAreaSubcommittees.png
END:VEVENT
BEGIN:VEVENT
DTSTART;TZID=America/New_York:20300304T190000
DTEND;TZID=America/New_York:20300304T200000
DTSTAMP:20260420T203625
CREATED:20241001T170043Z
LAST-MODIFIED:20250724T131839Z
UID:10000588-1898881200-1898884800@goldcoastna.org
SUMMARY:Hospitals and Institutions Subcommittee
DESCRIPTION:Orientation is from 6:00 pm to 7:00 pm \nSubcommittee is 7:00 pm to 8:00 pm
URL:https://goldcoastna.org/event/hospitals-and-institutions-subcommittee/2030-03-04/
LOCATION:River of Grass Unitarian Universalist Congregation\, 11850 West State Road 84 Suite 9\, Davie\, 33325\, United States
CATEGORIES:Service Committees
ATTACH;FMTTYPE=image/png:https://goldcoastna.org/wp-content/uploads/2024/10/GoldCoastAreaSubcommittees.png
END:VEVENT
BEGIN:VEVENT
DTSTART;TZID=America/New_York:20300305T190000
DTEND;TZID=America/New_York:20300305T200000
DTSTAMP:20260420T203625
CREATED:20240928T161409Z
LAST-MODIFIED:20250728T154359Z
UID:10000786-1898967600-1898971200@goldcoastna.org
SUMMARY:Activities Subcommittee Meeting
DESCRIPTION:Activities Subcommittee meets every first and third Tuesday
URL:https://goldcoastna.org/event/activities-subcommittee-meeting/2030-03-05/
LOCATION:Dunkin Donuts\, 1405 SW 26 Ave\, Pompano Beach\, FL\, 33069\, United States
CATEGORIES:Activities Subcommittee
ATTACH;FMTTYPE=image/png:https://goldcoastna.org/wp-content/uploads/2024/10/GoldCoastAreaSubcommittees.png
END:VEVENT
BEGIN:VEVENT
DTSTART;TZID=America/New_York:20300305T200000
DTEND;TZID=America/New_York:20300305T210000
DTSTAMP:20260420T203625
CREATED:20260414T201935Z
LAST-MODIFIED:20260414T201935Z
UID:10001310-1898971200-1898974800@goldcoastna.org
SUMMARY:Women of substance meeting moved
DESCRIPTION:Women of substance meeting changed locations and time.\nEvery Tuesday 8-9pm\nAt Safety town\n520 Ramblewood Dr\nCoral springs\, FL 33071
URL:https://goldcoastna.org/event/women-of-substance-meeting-moved/2030-03-05/
ATTACH;FMTTYPE=image/jpeg:https://goldcoastna.org/wp-content/uploads/2025/12/1000041515.jpg
END:VEVENT
BEGIN:VEVENT
DTSTART;TZID=America/New_York:20300310T130000
DTEND;TZID=America/New_York:20300310T170000
DTSTAMP:20260420T203625
CREATED:20241001T155510Z
LAST-MODIFIED:20250728T154238Z
UID:10000778-1899378000-1899392400@goldcoastna.org
SUMMARY:Area Service Committee
DESCRIPTION:Area service committees are ultimately responsible to the groups they serve. Narcotics Anonymous groups send group service representatives (GSRs) to serve on the area committee. While still maintaining final responsibility and authority for area services\, they invest enough delegated authority in their GSRs—and through them\, in the area committee—for the necessary work to get done. NA groups also send money to the area committee\, money needed to coordinate panels\, maintain phonelines\, and conduct public information activities. Through their contributions of money and manpower\, the groups exercise both their responsibility and their authority for NA services. How does the area service committee relate in turn to NA’s regional and world services? In much the same way as the group relates to the area committee: through carefully selected representatives who are delegated the authority necessary for effective service.
URL:https://goldcoastna.org/event/area-service-committee/2030-03-10/
LOCATION:Our Place II\, 8447 W. McNab Rd\, Tamarac\, FL\, 33321\, United States
CATEGORIES:Service Committees
END:VEVENT
BEGIN:VEVENT
DTSTART;TZID=America/New_York:20300312T190000
DTEND;TZID=America/New_York:20300312T210000
DTSTAMP:20260420T203625
CREATED:20241001T163033Z
LAST-MODIFIED:20250728T174857Z
UID:10000794-1899572400-1899579600@goldcoastna.org
SUMMARY:Convention Subcommittee (GCCNA)
DESCRIPTION:
URL:https://goldcoastna.org/event/convention-subcommittee-gccna/2030-03-12/
LOCATION:SPIRITUAL CONNECTION OUTREACH COMMUNITY CENTER\, 5975 SUNRISE BOULEVARD\, SUITE 210\, SUNRISE\, FL\, 33313\, United States
CATEGORIES:Service Committees
ATTACH;FMTTYPE=image/png:https://goldcoastna.org/wp-content/uploads/2024/10/GoldCoastAreaSubcommittees.png
END:VEVENT
BEGIN:VEVENT
DTSTART;TZID=America/New_York:20300312T200000
DTEND;TZID=America/New_York:20300312T210000
DTSTAMP:20260420T203625
CREATED:20260414T201935Z
LAST-MODIFIED:20260414T201935Z
UID:10001311-1899576000-1899579600@goldcoastna.org
SUMMARY:Women of substance meeting moved
DESCRIPTION:Women of substance meeting changed locations and time.\nEvery Tuesday 8-9pm\nAt Safety town\n520 Ramblewood Dr\nCoral springs\, FL 33071
URL:https://goldcoastna.org/event/women-of-substance-meeting-moved/2030-03-12/
ATTACH;FMTTYPE=image/jpeg:https://goldcoastna.org/wp-content/uploads/2025/12/1000041515.jpg
END:VEVENT
END:VCALENDAR