BEGIN:VCALENDAR
VERSION:2.0
PRODID:-//Gold Coast Area - ECPv6.15.20//NONSGML v1.0//EN
CALSCALE:GREGORIAN
METHOD:PUBLISH
X-WR-CALNAME:Gold Coast Area
X-ORIGINAL-URL:https://goldcoastna.org
X-WR-CALDESC:Events for Gold Coast Area
REFRESH-INTERVAL;VALUE=DURATION:PT1H
X-Robots-Tag:noindex
X-PUBLISHED-TTL:PT1H
BEGIN:VTIMEZONE
TZID:America/New_York
BEGIN:DAYLIGHT
TZOFFSETFROM:-0500
TZOFFSETTO:-0400
TZNAME:EDT
DTSTART:20280312T070000
END:DAYLIGHT
BEGIN:STANDARD
TZOFFSETFROM:-0400
TZOFFSETTO:-0500
TZNAME:EST
DTSTART:20281105T060000
END:STANDARD
BEGIN:DAYLIGHT
TZOFFSETFROM:-0500
TZOFFSETTO:-0400
TZNAME:EDT
DTSTART:20290311T070000
END:DAYLIGHT
BEGIN:STANDARD
TZOFFSETFROM:-0400
TZOFFSETTO:-0500
TZNAME:EST
DTSTART:20291104T060000
END:STANDARD
BEGIN:DAYLIGHT
TZOFFSETFROM:-0500
TZOFFSETTO:-0400
TZNAME:EDT
DTSTART:20300310T070000
END:DAYLIGHT
BEGIN:STANDARD
TZOFFSETFROM:-0400
TZOFFSETTO:-0500
TZNAME:EST
DTSTART:20301103T060000
END:STANDARD
END:VTIMEZONE
BEGIN:VEVENT
DTSTART;TZID=America/New_York:20290206T190000
DTEND;TZID=America/New_York:20290206T200000
DTSTAMP:20260420T063528
CREATED:20240928T161409Z
LAST-MODIFIED:20250728T154359Z
UID:10000054-1865098800-1865102400@goldcoastna.org
SUMMARY:Activities Subcommittee Meeting
DESCRIPTION:Activities Subcommittee meets every first and third Tuesday
URL:https://goldcoastna.org/event/activities-subcommittee-meeting/2029-02-06/
LOCATION:Dunkin Donuts\, 1405 SW 26 Ave\, Pompano Beach\, FL\, 33069\, United States
CATEGORIES:Activities Subcommittee
ATTACH;FMTTYPE=image/png:https://goldcoastna.org/wp-content/uploads/2024/10/GoldCoastAreaSubcommittees.png
END:VEVENT
BEGIN:VEVENT
DTSTART;TZID=America/New_York:20290206T200000
DTEND;TZID=America/New_York:20290206T210000
DTSTAMP:20260420T063528
CREATED:20260414T201935Z
LAST-MODIFIED:20260414T201935Z
UID:10001254-1865102400-1865106000@goldcoastna.org
SUMMARY:Women of substance meeting moved
DESCRIPTION:Women of substance meeting changed locations and time.\nEvery Tuesday 8-9pm\nAt Safety town\n520 Ramblewood Dr\nCoral springs\, FL 33071
URL:https://goldcoastna.org/event/women-of-substance-meeting-moved/2029-02-06/
ATTACH;FMTTYPE=image/jpeg:https://goldcoastna.org/wp-content/uploads/2025/12/1000041515.jpg
END:VEVENT
BEGIN:VEVENT
DTSTART;TZID=America/New_York:20290211T130000
DTEND;TZID=America/New_York:20290211T170000
DTSTAMP:20260420T063528
CREATED:20241001T155510Z
LAST-MODIFIED:20250728T154238Z
UID:10000765-1865509200-1865523600@goldcoastna.org
SUMMARY:Area Service Committee
DESCRIPTION:Area service committees are ultimately responsible to the groups they serve. Narcotics Anonymous groups send group service representatives (GSRs) to serve on the area committee. While still maintaining final responsibility and authority for area services\, they invest enough delegated authority in their GSRs—and through them\, in the area committee—for the necessary work to get done. NA groups also send money to the area committee\, money needed to coordinate panels\, maintain phonelines\, and conduct public information activities. Through their contributions of money and manpower\, the groups exercise both their responsibility and their authority for NA services. How does the area service committee relate in turn to NA’s regional and world services? In much the same way as the group relates to the area committee: through carefully selected representatives who are delegated the authority necessary for effective service.
URL:https://goldcoastna.org/event/area-service-committee/2029-02-11/
LOCATION:Our Place II\, 8447 W. McNab Rd\, Tamarac\, FL\, 33321\, United States
CATEGORIES:Service Committees
END:VEVENT
BEGIN:VEVENT
DTSTART;TZID=America/New_York:20290213T190000
DTEND;TZID=America/New_York:20290213T210000
DTSTAMP:20260420T063528
CREATED:20241001T163033Z
LAST-MODIFIED:20250728T174857Z
UID:10000174-1865703600-1865710800@goldcoastna.org
SUMMARY:Convention Subcommittee (GCCNA)
DESCRIPTION:
URL:https://goldcoastna.org/event/convention-subcommittee-gccna/2029-02-13/
LOCATION:SPIRITUAL CONNECTION OUTREACH COMMUNITY CENTER\, 5975 SUNRISE BOULEVARD\, SUITE 210\, SUNRISE\, FL\, 33313\, United States
CATEGORIES:Service Committees
ATTACH;FMTTYPE=image/png:https://goldcoastna.org/wp-content/uploads/2024/10/GoldCoastAreaSubcommittees.png
END:VEVENT
BEGIN:VEVENT
DTSTART;TZID=America/New_York:20290213T200000
DTEND;TZID=America/New_York:20290213T210000
DTSTAMP:20260420T063528
CREATED:20260414T201935Z
LAST-MODIFIED:20260414T201935Z
UID:10001255-1865707200-1865710800@goldcoastna.org
SUMMARY:Women of substance meeting moved
DESCRIPTION:Women of substance meeting changed locations and time.\nEvery Tuesday 8-9pm\nAt Safety town\n520 Ramblewood Dr\nCoral springs\, FL 33071
URL:https://goldcoastna.org/event/women-of-substance-meeting-moved/2029-02-13/
ATTACH;FMTTYPE=image/jpeg:https://goldcoastna.org/wp-content/uploads/2025/12/1000041515.jpg
END:VEVENT
BEGIN:VEVENT
DTSTART;TZID=America/New_York:20290220T200000
DTEND;TZID=America/New_York:20290220T210000
DTSTAMP:20260420T063528
CREATED:20260414T201935Z
LAST-MODIFIED:20260414T201935Z
UID:10001256-1866312000-1866315600@goldcoastna.org
SUMMARY:Women of substance meeting moved
DESCRIPTION:Women of substance meeting changed locations and time.\nEvery Tuesday 8-9pm\nAt Safety town\n520 Ramblewood Dr\nCoral springs\, FL 33071
URL:https://goldcoastna.org/event/women-of-substance-meeting-moved/2029-02-20/
ATTACH;FMTTYPE=image/jpeg:https://goldcoastna.org/wp-content/uploads/2025/12/1000041515.jpg
END:VEVENT
BEGIN:VEVENT
DTSTART;TZID=America/New_York:20290222T190000
DTEND;TZID=America/New_York:20290222T200000
DTSTAMP:20260420T063528
CREATED:20250728T154035Z
LAST-MODIFIED:20250728T154036Z
UID:10000695-1866481200-1866484800@goldcoastna.org
SUMMARY:Public Relations Subcommittee
DESCRIPTION:
URL:https://goldcoastna.org/event/public-relations-subcommittee-2/2029-02-22/
LOCATION:SPIRITUAL CONNECTION OUTREACH COMMUNITY CENTER\, 5975 SUNRISE BOULEVARD\, SUITE 210\, SUNRISE\, FL\, 33313\, United States
CATEGORIES:Service Committees
ATTACH;FMTTYPE=image/png:https://goldcoastna.org/wp-content/uploads/2024/10/GoldCoastAreaSubcommittees.png
END:VEVENT
BEGIN:VEVENT
DTSTART;TZID=America/New_York:20290227T200000
DTEND;TZID=America/New_York:20290227T210000
DTSTAMP:20260420T063528
CREATED:20260414T201935Z
LAST-MODIFIED:20260414T201935Z
UID:10001257-1866916800-1866920400@goldcoastna.org
SUMMARY:Women of substance meeting moved
DESCRIPTION:Women of substance meeting changed locations and time.\nEvery Tuesday 8-9pm\nAt Safety town\n520 Ramblewood Dr\nCoral springs\, FL 33071
URL:https://goldcoastna.org/event/women-of-substance-meeting-moved/2029-02-27/
ATTACH;FMTTYPE=image/jpeg:https://goldcoastna.org/wp-content/uploads/2025/12/1000041515.jpg
END:VEVENT
BEGIN:VEVENT
DTSTART;TZID=America/New_York:20290305T190000
DTEND;TZID=America/New_York:20290305T200000
DTSTAMP:20260420T063528
CREATED:20241001T170043Z
LAST-MODIFIED:20250724T131839Z
UID:10000295-1867431600-1867435200@goldcoastna.org
SUMMARY:Hospitals and Institutions Subcommittee
DESCRIPTION:Orientation is from 6:00 pm to 7:00 pm \nSubcommittee is 7:00 pm to 8:00 pm
URL:https://goldcoastna.org/event/hospitals-and-institutions-subcommittee/2029-03-05/
LOCATION:River of Grass Unitarian Universalist Congregation\, 11850 West State Road 84 Suite 9\, Davie\, 33325\, United States
CATEGORIES:Service Committees
ATTACH;FMTTYPE=image/png:https://goldcoastna.org/wp-content/uploads/2024/10/GoldCoastAreaSubcommittees.png
END:VEVENT
BEGIN:VEVENT
DTSTART;TZID=America/New_York:20290306T190000
DTEND;TZID=America/New_York:20290306T200000
DTSTAMP:20260420T063528
CREATED:20240928T161409Z
LAST-MODIFIED:20250728T154359Z
UID:10000055-1867518000-1867521600@goldcoastna.org
SUMMARY:Activities Subcommittee Meeting
DESCRIPTION:Activities Subcommittee meets every first and third Tuesday
URL:https://goldcoastna.org/event/activities-subcommittee-meeting/2029-03-06/
LOCATION:Dunkin Donuts\, 1405 SW 26 Ave\, Pompano Beach\, FL\, 33069\, United States
CATEGORIES:Activities Subcommittee
ATTACH;FMTTYPE=image/png:https://goldcoastna.org/wp-content/uploads/2024/10/GoldCoastAreaSubcommittees.png
END:VEVENT
BEGIN:VEVENT
DTSTART;TZID=America/New_York:20290306T200000
DTEND;TZID=America/New_York:20290306T210000
DTSTAMP:20260420T063528
CREATED:20260414T201935Z
LAST-MODIFIED:20260414T201935Z
UID:10001258-1867521600-1867525200@goldcoastna.org
SUMMARY:Women of substance meeting moved
DESCRIPTION:Women of substance meeting changed locations and time.\nEvery Tuesday 8-9pm\nAt Safety town\n520 Ramblewood Dr\nCoral springs\, FL 33071
URL:https://goldcoastna.org/event/women-of-substance-meeting-moved/2029-03-06/
ATTACH;FMTTYPE=image/jpeg:https://goldcoastna.org/wp-content/uploads/2025/12/1000041515.jpg
END:VEVENT
BEGIN:VEVENT
DTSTART;TZID=America/New_York:20290311T130000
DTEND;TZID=America/New_York:20290311T170000
DTSTAMP:20260420T063528
CREATED:20241001T155510Z
LAST-MODIFIED:20250728T154238Z
UID:10000766-1867928400-1867942800@goldcoastna.org
SUMMARY:Area Service Committee
DESCRIPTION:Area service committees are ultimately responsible to the groups they serve. Narcotics Anonymous groups send group service representatives (GSRs) to serve on the area committee. While still maintaining final responsibility and authority for area services\, they invest enough delegated authority in their GSRs—and through them\, in the area committee—for the necessary work to get done. NA groups also send money to the area committee\, money needed to coordinate panels\, maintain phonelines\, and conduct public information activities. Through their contributions of money and manpower\, the groups exercise both their responsibility and their authority for NA services. How does the area service committee relate in turn to NA’s regional and world services? In much the same way as the group relates to the area committee: through carefully selected representatives who are delegated the authority necessary for effective service.
URL:https://goldcoastna.org/event/area-service-committee/2029-03-11/
LOCATION:Our Place II\, 8447 W. McNab Rd\, Tamarac\, FL\, 33321\, United States
CATEGORIES:Service Committees
END:VEVENT
BEGIN:VEVENT
DTSTART;TZID=America/New_York:20290313T190000
DTEND;TZID=America/New_York:20290313T210000
DTSTAMP:20260420T063528
CREATED:20241001T163033Z
LAST-MODIFIED:20250728T174857Z
UID:10000175-1868122800-1868130000@goldcoastna.org
SUMMARY:Convention Subcommittee (GCCNA)
DESCRIPTION:
URL:https://goldcoastna.org/event/convention-subcommittee-gccna/2029-03-13/
LOCATION:SPIRITUAL CONNECTION OUTREACH COMMUNITY CENTER\, 5975 SUNRISE BOULEVARD\, SUITE 210\, SUNRISE\, FL\, 33313\, United States
CATEGORIES:Service Committees
ATTACH;FMTTYPE=image/png:https://goldcoastna.org/wp-content/uploads/2024/10/GoldCoastAreaSubcommittees.png
END:VEVENT
BEGIN:VEVENT
DTSTART;TZID=America/New_York:20290313T200000
DTEND;TZID=America/New_York:20290313T210000
DTSTAMP:20260420T063528
CREATED:20260414T201935Z
LAST-MODIFIED:20260414T201935Z
UID:10001259-1868126400-1868130000@goldcoastna.org
SUMMARY:Women of substance meeting moved
DESCRIPTION:Women of substance meeting changed locations and time.\nEvery Tuesday 8-9pm\nAt Safety town\n520 Ramblewood Dr\nCoral springs\, FL 33071
URL:https://goldcoastna.org/event/women-of-substance-meeting-moved/2029-03-13/
ATTACH;FMTTYPE=image/jpeg:https://goldcoastna.org/wp-content/uploads/2025/12/1000041515.jpg
END:VEVENT
BEGIN:VEVENT
DTSTART;TZID=America/New_York:20290320T200000
DTEND;TZID=America/New_York:20290320T210000
DTSTAMP:20260420T063528
CREATED:20260414T201935Z
LAST-MODIFIED:20260414T201935Z
UID:10001260-1868731200-1868734800@goldcoastna.org
SUMMARY:Women of substance meeting moved
DESCRIPTION:Women of substance meeting changed locations and time.\nEvery Tuesday 8-9pm\nAt Safety town\n520 Ramblewood Dr\nCoral springs\, FL 33071
URL:https://goldcoastna.org/event/women-of-substance-meeting-moved/2029-03-20/
ATTACH;FMTTYPE=image/jpeg:https://goldcoastna.org/wp-content/uploads/2025/12/1000041515.jpg
END:VEVENT
BEGIN:VEVENT
DTSTART;TZID=America/New_York:20290327T200000
DTEND;TZID=America/New_York:20290327T210000
DTSTAMP:20260420T063528
CREATED:20260414T201935Z
LAST-MODIFIED:20260414T201935Z
UID:10001261-1869336000-1869339600@goldcoastna.org
SUMMARY:Women of substance meeting moved
DESCRIPTION:Women of substance meeting changed locations and time.\nEvery Tuesday 8-9pm\nAt Safety town\n520 Ramblewood Dr\nCoral springs\, FL 33071
URL:https://goldcoastna.org/event/women-of-substance-meeting-moved/2029-03-27/
ATTACH;FMTTYPE=image/jpeg:https://goldcoastna.org/wp-content/uploads/2025/12/1000041515.jpg
END:VEVENT
BEGIN:VEVENT
DTSTART;TZID=America/New_York:20290329T190000
DTEND;TZID=America/New_York:20290329T200000
DTSTAMP:20260420T063528
CREATED:20250728T154035Z
LAST-MODIFIED:20250728T154036Z
UID:10000696-1869505200-1869508800@goldcoastna.org
SUMMARY:Public Relations Subcommittee
DESCRIPTION:
URL:https://goldcoastna.org/event/public-relations-subcommittee-2/2029-03-29/
LOCATION:SPIRITUAL CONNECTION OUTREACH COMMUNITY CENTER\, 5975 SUNRISE BOULEVARD\, SUITE 210\, SUNRISE\, FL\, 33313\, United States
CATEGORIES:Service Committees
ATTACH;FMTTYPE=image/png:https://goldcoastna.org/wp-content/uploads/2024/10/GoldCoastAreaSubcommittees.png
END:VEVENT
BEGIN:VEVENT
DTSTART;TZID=America/New_York:20290402T190000
DTEND;TZID=America/New_York:20290402T200000
DTSTAMP:20260420T063528
CREATED:20241001T170043Z
LAST-MODIFIED:20250724T131839Z
UID:10000296-1869850800-1869854400@goldcoastna.org
SUMMARY:Hospitals and Institutions Subcommittee
DESCRIPTION:Orientation is from 6:00 pm to 7:00 pm \nSubcommittee is 7:00 pm to 8:00 pm
URL:https://goldcoastna.org/event/hospitals-and-institutions-subcommittee/2029-04-02/
LOCATION:River of Grass Unitarian Universalist Congregation\, 11850 West State Road 84 Suite 9\, Davie\, 33325\, United States
CATEGORIES:Service Committees
ATTACH;FMTTYPE=image/png:https://goldcoastna.org/wp-content/uploads/2024/10/GoldCoastAreaSubcommittees.png
END:VEVENT
BEGIN:VEVENT
DTSTART;TZID=America/New_York:20290403T190000
DTEND;TZID=America/New_York:20290403T200000
DTSTAMP:20260420T063528
CREATED:20240928T161409Z
LAST-MODIFIED:20250728T154359Z
UID:10000056-1869937200-1869940800@goldcoastna.org
SUMMARY:Activities Subcommittee Meeting
DESCRIPTION:Activities Subcommittee meets every first and third Tuesday
URL:https://goldcoastna.org/event/activities-subcommittee-meeting/2029-04-03/
LOCATION:Dunkin Donuts\, 1405 SW 26 Ave\, Pompano Beach\, FL\, 33069\, United States
CATEGORIES:Activities Subcommittee
ATTACH;FMTTYPE=image/png:https://goldcoastna.org/wp-content/uploads/2024/10/GoldCoastAreaSubcommittees.png
END:VEVENT
BEGIN:VEVENT
DTSTART;TZID=America/New_York:20290403T200000
DTEND;TZID=America/New_York:20290403T210000
DTSTAMP:20260420T063528
CREATED:20260414T201935Z
LAST-MODIFIED:20260414T201935Z
UID:10001262-1869940800-1869944400@goldcoastna.org
SUMMARY:Women of substance meeting moved
DESCRIPTION:Women of substance meeting changed locations and time.\nEvery Tuesday 8-9pm\nAt Safety town\n520 Ramblewood Dr\nCoral springs\, FL 33071
URL:https://goldcoastna.org/event/women-of-substance-meeting-moved/2029-04-03/
ATTACH;FMTTYPE=image/jpeg:https://goldcoastna.org/wp-content/uploads/2025/12/1000041515.jpg
END:VEVENT
BEGIN:VEVENT
DTSTART;TZID=America/New_York:20290408T130000
DTEND;TZID=America/New_York:20290408T170000
DTSTAMP:20260420T063528
CREATED:20241001T155510Z
LAST-MODIFIED:20250728T154238Z
UID:10000767-1870347600-1870362000@goldcoastna.org
SUMMARY:Area Service Committee
DESCRIPTION:Area service committees are ultimately responsible to the groups they serve. Narcotics Anonymous groups send group service representatives (GSRs) to serve on the area committee. While still maintaining final responsibility and authority for area services\, they invest enough delegated authority in their GSRs—and through them\, in the area committee—for the necessary work to get done. NA groups also send money to the area committee\, money needed to coordinate panels\, maintain phonelines\, and conduct public information activities. Through their contributions of money and manpower\, the groups exercise both their responsibility and their authority for NA services. How does the area service committee relate in turn to NA’s regional and world services? In much the same way as the group relates to the area committee: through carefully selected representatives who are delegated the authority necessary for effective service.
URL:https://goldcoastna.org/event/area-service-committee/2029-04-08/
LOCATION:Our Place II\, 8447 W. McNab Rd\, Tamarac\, FL\, 33321\, United States
CATEGORIES:Service Committees
END:VEVENT
BEGIN:VEVENT
DTSTART;TZID=America/New_York:20290410T190000
DTEND;TZID=America/New_York:20290410T210000
DTSTAMP:20260420T063528
CREATED:20241001T163033Z
LAST-MODIFIED:20250728T174857Z
UID:10000176-1870542000-1870549200@goldcoastna.org
SUMMARY:Convention Subcommittee (GCCNA)
DESCRIPTION:
URL:https://goldcoastna.org/event/convention-subcommittee-gccna/2029-04-10/
LOCATION:SPIRITUAL CONNECTION OUTREACH COMMUNITY CENTER\, 5975 SUNRISE BOULEVARD\, SUITE 210\, SUNRISE\, FL\, 33313\, United States
CATEGORIES:Service Committees
ATTACH;FMTTYPE=image/png:https://goldcoastna.org/wp-content/uploads/2024/10/GoldCoastAreaSubcommittees.png
END:VEVENT
BEGIN:VEVENT
DTSTART;TZID=America/New_York:20290410T200000
DTEND;TZID=America/New_York:20290410T210000
DTSTAMP:20260420T063528
CREATED:20260414T201935Z
LAST-MODIFIED:20260414T201935Z
UID:10001263-1870545600-1870549200@goldcoastna.org
SUMMARY:Women of substance meeting moved
DESCRIPTION:Women of substance meeting changed locations and time.\nEvery Tuesday 8-9pm\nAt Safety town\n520 Ramblewood Dr\nCoral springs\, FL 33071
URL:https://goldcoastna.org/event/women-of-substance-meeting-moved/2029-04-10/
ATTACH;FMTTYPE=image/jpeg:https://goldcoastna.org/wp-content/uploads/2025/12/1000041515.jpg
END:VEVENT
BEGIN:VEVENT
DTSTART;TZID=America/New_York:20290417T200000
DTEND;TZID=America/New_York:20290417T210000
DTSTAMP:20260420T063528
CREATED:20260414T201935Z
LAST-MODIFIED:20260414T201935Z
UID:10001264-1871150400-1871154000@goldcoastna.org
SUMMARY:Women of substance meeting moved
DESCRIPTION:Women of substance meeting changed locations and time.\nEvery Tuesday 8-9pm\nAt Safety town\n520 Ramblewood Dr\nCoral springs\, FL 33071
URL:https://goldcoastna.org/event/women-of-substance-meeting-moved/2029-04-17/
ATTACH;FMTTYPE=image/jpeg:https://goldcoastna.org/wp-content/uploads/2025/12/1000041515.jpg
END:VEVENT
BEGIN:VEVENT
DTSTART;TZID=America/New_York:20290424T200000
DTEND;TZID=America/New_York:20290424T210000
DTSTAMP:20260420T063528
CREATED:20260414T201935Z
LAST-MODIFIED:20260414T201935Z
UID:10001265-1871755200-1871758800@goldcoastna.org
SUMMARY:Women of substance meeting moved
DESCRIPTION:Women of substance meeting changed locations and time.\nEvery Tuesday 8-9pm\nAt Safety town\n520 Ramblewood Dr\nCoral springs\, FL 33071
URL:https://goldcoastna.org/event/women-of-substance-meeting-moved/2029-04-24/
ATTACH;FMTTYPE=image/jpeg:https://goldcoastna.org/wp-content/uploads/2025/12/1000041515.jpg
END:VEVENT
BEGIN:VEVENT
DTSTART;TZID=America/New_York:20290426T190000
DTEND;TZID=America/New_York:20290426T200000
DTSTAMP:20260420T063528
CREATED:20250728T154035Z
LAST-MODIFIED:20250728T154036Z
UID:10000697-1871924400-1871928000@goldcoastna.org
SUMMARY:Public Relations Subcommittee
DESCRIPTION:
URL:https://goldcoastna.org/event/public-relations-subcommittee-2/2029-04-26/
LOCATION:SPIRITUAL CONNECTION OUTREACH COMMUNITY CENTER\, 5975 SUNRISE BOULEVARD\, SUITE 210\, SUNRISE\, FL\, 33313\, United States
CATEGORIES:Service Committees
ATTACH;FMTTYPE=image/png:https://goldcoastna.org/wp-content/uploads/2024/10/GoldCoastAreaSubcommittees.png
END:VEVENT
BEGIN:VEVENT
DTSTART;TZID=America/New_York:20290501T190000
DTEND;TZID=America/New_York:20290501T200000
DTSTAMP:20260420T063528
CREATED:20240928T161409Z
LAST-MODIFIED:20250728T154359Z
UID:10000057-1872356400-1872360000@goldcoastna.org
SUMMARY:Activities Subcommittee Meeting
DESCRIPTION:Activities Subcommittee meets every first and third Tuesday
URL:https://goldcoastna.org/event/activities-subcommittee-meeting/2029-05-01/
LOCATION:Dunkin Donuts\, 1405 SW 26 Ave\, Pompano Beach\, FL\, 33069\, United States
CATEGORIES:Activities Subcommittee
ATTACH;FMTTYPE=image/png:https://goldcoastna.org/wp-content/uploads/2024/10/GoldCoastAreaSubcommittees.png
END:VEVENT
BEGIN:VEVENT
DTSTART;TZID=America/New_York:20290501T200000
DTEND;TZID=America/New_York:20290501T210000
DTSTAMP:20260420T063528
CREATED:20260414T201935Z
LAST-MODIFIED:20260414T201935Z
UID:10001266-1872360000-1872363600@goldcoastna.org
SUMMARY:Women of substance meeting moved
DESCRIPTION:Women of substance meeting changed locations and time.\nEvery Tuesday 8-9pm\nAt Safety town\n520 Ramblewood Dr\nCoral springs\, FL 33071
URL:https://goldcoastna.org/event/women-of-substance-meeting-moved/2029-05-01/
ATTACH;FMTTYPE=image/jpeg:https://goldcoastna.org/wp-content/uploads/2025/12/1000041515.jpg
END:VEVENT
BEGIN:VEVENT
DTSTART;TZID=America/New_York:20290507T190000
DTEND;TZID=America/New_York:20290507T200000
DTSTAMP:20260420T063528
CREATED:20241001T170043Z
LAST-MODIFIED:20250724T131839Z
UID:10000297-1872874800-1872878400@goldcoastna.org
SUMMARY:Hospitals and Institutions Subcommittee
DESCRIPTION:Orientation is from 6:00 pm to 7:00 pm \nSubcommittee is 7:00 pm to 8:00 pm
URL:https://goldcoastna.org/event/hospitals-and-institutions-subcommittee/2029-05-07/
LOCATION:River of Grass Unitarian Universalist Congregation\, 11850 West State Road 84 Suite 9\, Davie\, 33325\, United States
CATEGORIES:Service Committees
ATTACH;FMTTYPE=image/png:https://goldcoastna.org/wp-content/uploads/2024/10/GoldCoastAreaSubcommittees.png
END:VEVENT
BEGIN:VEVENT
DTSTART;TZID=America/New_York:20290508T190000
DTEND;TZID=America/New_York:20290508T210000
DTSTAMP:20260420T063528
CREATED:20241001T163033Z
LAST-MODIFIED:20250728T174857Z
UID:10000177-1872961200-1872968400@goldcoastna.org
SUMMARY:Convention Subcommittee (GCCNA)
DESCRIPTION:
URL:https://goldcoastna.org/event/convention-subcommittee-gccna/2029-05-08/
LOCATION:SPIRITUAL CONNECTION OUTREACH COMMUNITY CENTER\, 5975 SUNRISE BOULEVARD\, SUITE 210\, SUNRISE\, FL\, 33313\, United States
CATEGORIES:Service Committees
ATTACH;FMTTYPE=image/png:https://goldcoastna.org/wp-content/uploads/2024/10/GoldCoastAreaSubcommittees.png
END:VEVENT
END:VCALENDAR