BEGIN:VCALENDAR
VERSION:2.0
PRODID:-//Gold Coast Area - ECPv6.15.20//NONSGML v1.0//EN
CALSCALE:GREGORIAN
METHOD:PUBLISH
X-ORIGINAL-URL:https://goldcoastna.org
X-WR-CALDESC:Events for Gold Coast Area
REFRESH-INTERVAL;VALUE=DURATION:PT1H
X-Robots-Tag:noindex
X-PUBLISHED-TTL:PT1H
BEGIN:VTIMEZONE
TZID:America/New_York
BEGIN:DAYLIGHT
TZOFFSETFROM:-0500
TZOFFSETTO:-0400
TZNAME:EDT
DTSTART:20290311T070000
END:DAYLIGHT
BEGIN:STANDARD
TZOFFSETFROM:-0400
TZOFFSETTO:-0500
TZNAME:EST
DTSTART:20291104T060000
END:STANDARD
BEGIN:DAYLIGHT
TZOFFSETFROM:-0500
TZOFFSETTO:-0400
TZNAME:EDT
DTSTART:20300310T070000
END:DAYLIGHT
BEGIN:STANDARD
TZOFFSETFROM:-0400
TZOFFSETTO:-0500
TZNAME:EST
DTSTART:20301103T060000
END:STANDARD
BEGIN:DAYLIGHT
TZOFFSETFROM:-0500
TZOFFSETTO:-0400
TZNAME:EDT
DTSTART:20310309T070000
END:DAYLIGHT
BEGIN:STANDARD
TZOFFSETFROM:-0400
TZOFFSETTO:-0500
TZNAME:EST
DTSTART:20311102T060000
END:STANDARD
END:VTIMEZONE
BEGIN:VEVENT
DTSTART;TZID=America/New_York:20300304T190000
DTEND;TZID=America/New_York:20300304T200000
DTSTAMP:20260421T010850
CREATED:20241001T170043Z
LAST-MODIFIED:20250724T131839Z
UID:10000588-1898881200-1898884800@goldcoastna.org
SUMMARY:Hospitals and Institutions Subcommittee
DESCRIPTION:Orientation is from 6:00 pm to 7:00 pm \nSubcommittee is 7:00 pm to 8:00 pm
URL:https://goldcoastna.org/event/hospitals-and-institutions-subcommittee/2030-03-04/
LOCATION:River of Grass Unitarian Universalist Congregation\, 11850 West State Road 84 Suite 9\, Davie\, 33325\, United States
CATEGORIES:Service Committees
ATTACH;FMTTYPE=image/png:https://goldcoastna.org/wp-content/uploads/2024/10/GoldCoastAreaSubcommittees.png
END:VEVENT
BEGIN:VEVENT
DTSTART;TZID=America/New_York:20300305T190000
DTEND;TZID=America/New_York:20300305T200000
DTSTAMP:20260421T010850
CREATED:20240928T161409Z
LAST-MODIFIED:20250728T154359Z
UID:10000786-1898967600-1898971200@goldcoastna.org
SUMMARY:Activities Subcommittee Meeting
DESCRIPTION:Activities Subcommittee meets every first and third Tuesday
URL:https://goldcoastna.org/event/activities-subcommittee-meeting/2030-03-05/
LOCATION:Dunkin Donuts\, 1405 SW 26 Ave\, Pompano Beach\, FL\, 33069\, United States
CATEGORIES:Activities Subcommittee
ATTACH;FMTTYPE=image/png:https://goldcoastna.org/wp-content/uploads/2024/10/GoldCoastAreaSubcommittees.png
END:VEVENT
BEGIN:VEVENT
DTSTART;TZID=America/New_York:20300305T200000
DTEND;TZID=America/New_York:20300305T210000
DTSTAMP:20260421T010850
CREATED:20260414T201935Z
LAST-MODIFIED:20260414T201935Z
UID:10001310-1898971200-1898974800@goldcoastna.org
SUMMARY:Women of substance meeting moved
DESCRIPTION:Women of substance meeting changed locations and time.\nEvery Tuesday 8-9pm\nAt Safety town\n520 Ramblewood Dr\nCoral springs\, FL 33071
URL:https://goldcoastna.org/event/women-of-substance-meeting-moved/2030-03-05/
ATTACH;FMTTYPE=image/jpeg:https://goldcoastna.org/wp-content/uploads/2025/12/1000041515.jpg
END:VEVENT
BEGIN:VEVENT
DTSTART;TZID=America/New_York:20300310T130000
DTEND;TZID=America/New_York:20300310T170000
DTSTAMP:20260421T010850
CREATED:20241001T155510Z
LAST-MODIFIED:20250728T154238Z
UID:10000778-1899378000-1899392400@goldcoastna.org
SUMMARY:Area Service Committee
DESCRIPTION:Area service committees are ultimately responsible to the groups they serve. Narcotics Anonymous groups send group service representatives (GSRs) to serve on the area committee. While still maintaining final responsibility and authority for area services\, they invest enough delegated authority in their GSRs—and through them\, in the area committee—for the necessary work to get done. NA groups also send money to the area committee\, money needed to coordinate panels\, maintain phonelines\, and conduct public information activities. Through their contributions of money and manpower\, the groups exercise both their responsibility and their authority for NA services. How does the area service committee relate in turn to NA’s regional and world services? In much the same way as the group relates to the area committee: through carefully selected representatives who are delegated the authority necessary for effective service.
URL:https://goldcoastna.org/event/area-service-committee/2030-03-10/
LOCATION:Our Place II\, 8447 W. McNab Rd\, Tamarac\, FL\, 33321\, United States
CATEGORIES:Service Committees
END:VEVENT
BEGIN:VEVENT
DTSTART;TZID=America/New_York:20300312T190000
DTEND;TZID=America/New_York:20300312T210000
DTSTAMP:20260421T010850
CREATED:20241001T163033Z
LAST-MODIFIED:20250728T174857Z
UID:10000794-1899572400-1899579600@goldcoastna.org
SUMMARY:Convention Subcommittee (GCCNA)
DESCRIPTION:
URL:https://goldcoastna.org/event/convention-subcommittee-gccna/2030-03-12/
LOCATION:SPIRITUAL CONNECTION OUTREACH COMMUNITY CENTER\, 5975 SUNRISE BOULEVARD\, SUITE 210\, SUNRISE\, FL\, 33313\, United States
CATEGORIES:Service Committees
ATTACH;FMTTYPE=image/png:https://goldcoastna.org/wp-content/uploads/2024/10/GoldCoastAreaSubcommittees.png
END:VEVENT
BEGIN:VEVENT
DTSTART;TZID=America/New_York:20300312T200000
DTEND;TZID=America/New_York:20300312T210000
DTSTAMP:20260421T010850
CREATED:20260414T201935Z
LAST-MODIFIED:20260414T201935Z
UID:10001311-1899576000-1899579600@goldcoastna.org
SUMMARY:Women of substance meeting moved
DESCRIPTION:Women of substance meeting changed locations and time.\nEvery Tuesday 8-9pm\nAt Safety town\n520 Ramblewood Dr\nCoral springs\, FL 33071
URL:https://goldcoastna.org/event/women-of-substance-meeting-moved/2030-03-12/
ATTACH;FMTTYPE=image/jpeg:https://goldcoastna.org/wp-content/uploads/2025/12/1000041515.jpg
END:VEVENT
BEGIN:VEVENT
DTSTART;TZID=America/New_York:20300319T200000
DTEND;TZID=America/New_York:20300319T210000
DTSTAMP:20260421T010850
CREATED:20260414T201935Z
LAST-MODIFIED:20260414T201935Z
UID:10001312-1900180800-1900184400@goldcoastna.org
SUMMARY:Women of substance meeting moved
DESCRIPTION:Women of substance meeting changed locations and time.\nEvery Tuesday 8-9pm\nAt Safety town\n520 Ramblewood Dr\nCoral springs\, FL 33071
URL:https://goldcoastna.org/event/women-of-substance-meeting-moved/2030-03-19/
ATTACH;FMTTYPE=image/jpeg:https://goldcoastna.org/wp-content/uploads/2025/12/1000041515.jpg
END:VEVENT
BEGIN:VEVENT
DTSTART;TZID=America/New_York:20300326T200000
DTEND;TZID=America/New_York:20300326T210000
DTSTAMP:20260421T010850
CREATED:20260414T201935Z
LAST-MODIFIED:20260414T201935Z
UID:10001313-1900785600-1900789200@goldcoastna.org
SUMMARY:Women of substance meeting moved
DESCRIPTION:Women of substance meeting changed locations and time.\nEvery Tuesday 8-9pm\nAt Safety town\n520 Ramblewood Dr\nCoral springs\, FL 33071
URL:https://goldcoastna.org/event/women-of-substance-meeting-moved/2030-03-26/
ATTACH;FMTTYPE=image/jpeg:https://goldcoastna.org/wp-content/uploads/2025/12/1000041515.jpg
END:VEVENT
BEGIN:VEVENT
DTSTART;TZID=America/New_York:20300328T190000
DTEND;TZID=America/New_York:20300328T200000
DTSTAMP:20260421T010850
CREATED:20250728T154035Z
LAST-MODIFIED:20250728T154036Z
UID:10000708-1900954800-1900958400@goldcoastna.org
SUMMARY:Public Relations Subcommittee
DESCRIPTION:
URL:https://goldcoastna.org/event/public-relations-subcommittee-2/2030-03-28/
LOCATION:SPIRITUAL CONNECTION OUTREACH COMMUNITY CENTER\, 5975 SUNRISE BOULEVARD\, SUITE 210\, SUNRISE\, FL\, 33313\, United States
CATEGORIES:Service Committees
ATTACH;FMTTYPE=image/png:https://goldcoastna.org/wp-content/uploads/2024/10/GoldCoastAreaSubcommittees.png
END:VEVENT
BEGIN:VEVENT
DTSTART;TZID=America/New_York:20300401T190000
DTEND;TZID=America/New_York:20300401T200000
DTSTAMP:20260421T010850
CREATED:20241001T170043Z
LAST-MODIFIED:20250724T131839Z
UID:10000589-1901300400-1901304000@goldcoastna.org
SUMMARY:Hospitals and Institutions Subcommittee
DESCRIPTION:Orientation is from 6:00 pm to 7:00 pm \nSubcommittee is 7:00 pm to 8:00 pm
URL:https://goldcoastna.org/event/hospitals-and-institutions-subcommittee/2030-04-01/
LOCATION:River of Grass Unitarian Universalist Congregation\, 11850 West State Road 84 Suite 9\, Davie\, 33325\, United States
CATEGORIES:Service Committees
ATTACH;FMTTYPE=image/png:https://goldcoastna.org/wp-content/uploads/2024/10/GoldCoastAreaSubcommittees.png
END:VEVENT
BEGIN:VEVENT
DTSTART;TZID=America/New_York:20300402T190000
DTEND;TZID=America/New_York:20300402T200000
DTSTAMP:20260421T010850
CREATED:20240928T161409Z
LAST-MODIFIED:20250728T154359Z
UID:10000787-1901386800-1901390400@goldcoastna.org
SUMMARY:Activities Subcommittee Meeting
DESCRIPTION:Activities Subcommittee meets every first and third Tuesday
URL:https://goldcoastna.org/event/activities-subcommittee-meeting/2030-04-02/
LOCATION:Dunkin Donuts\, 1405 SW 26 Ave\, Pompano Beach\, FL\, 33069\, United States
CATEGORIES:Activities Subcommittee
ATTACH;FMTTYPE=image/png:https://goldcoastna.org/wp-content/uploads/2024/10/GoldCoastAreaSubcommittees.png
END:VEVENT
BEGIN:VEVENT
DTSTART;TZID=America/New_York:20300402T200000
DTEND;TZID=America/New_York:20300402T210000
DTSTAMP:20260421T010850
CREATED:20260414T201935Z
LAST-MODIFIED:20260414T201935Z
UID:10001314-1901390400-1901394000@goldcoastna.org
SUMMARY:Women of substance meeting moved
DESCRIPTION:Women of substance meeting changed locations and time.\nEvery Tuesday 8-9pm\nAt Safety town\n520 Ramblewood Dr\nCoral springs\, FL 33071
URL:https://goldcoastna.org/event/women-of-substance-meeting-moved/2030-04-02/
ATTACH;FMTTYPE=image/jpeg:https://goldcoastna.org/wp-content/uploads/2025/12/1000041515.jpg
END:VEVENT
BEGIN:VEVENT
DTSTART;TZID=America/New_York:20300409T190000
DTEND;TZID=America/New_York:20300409T210000
DTSTAMP:20260421T010850
CREATED:20241001T163033Z
LAST-MODIFIED:20250728T174857Z
UID:10000795-1901991600-1901998800@goldcoastna.org
SUMMARY:Convention Subcommittee (GCCNA)
DESCRIPTION:
URL:https://goldcoastna.org/event/convention-subcommittee-gccna/2030-04-09/
LOCATION:SPIRITUAL CONNECTION OUTREACH COMMUNITY CENTER\, 5975 SUNRISE BOULEVARD\, SUITE 210\, SUNRISE\, FL\, 33313\, United States
CATEGORIES:Service Committees
ATTACH;FMTTYPE=image/png:https://goldcoastna.org/wp-content/uploads/2024/10/GoldCoastAreaSubcommittees.png
END:VEVENT
BEGIN:VEVENT
DTSTART;TZID=America/New_York:20300409T200000
DTEND;TZID=America/New_York:20300409T210000
DTSTAMP:20260421T010850
CREATED:20260414T201935Z
LAST-MODIFIED:20260414T201935Z
UID:10001315-1901995200-1901998800@goldcoastna.org
SUMMARY:Women of substance meeting moved
DESCRIPTION:Women of substance meeting changed locations and time.\nEvery Tuesday 8-9pm\nAt Safety town\n520 Ramblewood Dr\nCoral springs\, FL 33071
URL:https://goldcoastna.org/event/women-of-substance-meeting-moved/2030-04-09/
ATTACH;FMTTYPE=image/jpeg:https://goldcoastna.org/wp-content/uploads/2025/12/1000041515.jpg
END:VEVENT
BEGIN:VEVENT
DTSTART;TZID=America/New_York:20300414T130000
DTEND;TZID=America/New_York:20300414T170000
DTSTAMP:20260421T010850
CREATED:20241001T155510Z
LAST-MODIFIED:20250728T154238Z
UID:10000779-1902402000-1902416400@goldcoastna.org
SUMMARY:Area Service Committee
DESCRIPTION:Area service committees are ultimately responsible to the groups they serve. Narcotics Anonymous groups send group service representatives (GSRs) to serve on the area committee. While still maintaining final responsibility and authority for area services\, they invest enough delegated authority in their GSRs—and through them\, in the area committee—for the necessary work to get done. NA groups also send money to the area committee\, money needed to coordinate panels\, maintain phonelines\, and conduct public information activities. Through their contributions of money and manpower\, the groups exercise both their responsibility and their authority for NA services. How does the area service committee relate in turn to NA’s regional and world services? In much the same way as the group relates to the area committee: through carefully selected representatives who are delegated the authority necessary for effective service.
URL:https://goldcoastna.org/event/area-service-committee/2030-04-14/
LOCATION:Our Place II\, 8447 W. McNab Rd\, Tamarac\, FL\, 33321\, United States
CATEGORIES:Service Committees
END:VEVENT
BEGIN:VEVENT
DTSTART;TZID=America/New_York:20300416T200000
DTEND;TZID=America/New_York:20300416T210000
DTSTAMP:20260421T010850
CREATED:20260414T201935Z
LAST-MODIFIED:20260414T201935Z
UID:10001316-1902600000-1902603600@goldcoastna.org
SUMMARY:Women of substance meeting moved
DESCRIPTION:Women of substance meeting changed locations and time.\nEvery Tuesday 8-9pm\nAt Safety town\n520 Ramblewood Dr\nCoral springs\, FL 33071
URL:https://goldcoastna.org/event/women-of-substance-meeting-moved/2030-04-16/
ATTACH;FMTTYPE=image/jpeg:https://goldcoastna.org/wp-content/uploads/2025/12/1000041515.jpg
END:VEVENT
BEGIN:VEVENT
DTSTART;TZID=America/New_York:20300423T200000
DTEND;TZID=America/New_York:20300423T210000
DTSTAMP:20260421T010850
CREATED:20260414T201935Z
LAST-MODIFIED:20260414T201935Z
UID:10001317-1903204800-1903208400@goldcoastna.org
SUMMARY:Women of substance meeting moved
DESCRIPTION:Women of substance meeting changed locations and time.\nEvery Tuesday 8-9pm\nAt Safety town\n520 Ramblewood Dr\nCoral springs\, FL 33071
URL:https://goldcoastna.org/event/women-of-substance-meeting-moved/2030-04-23/
ATTACH;FMTTYPE=image/jpeg:https://goldcoastna.org/wp-content/uploads/2025/12/1000041515.jpg
END:VEVENT
BEGIN:VEVENT
DTSTART;TZID=America/New_York:20300425T190000
DTEND;TZID=America/New_York:20300425T200000
DTSTAMP:20260421T010850
CREATED:20250728T154035Z
LAST-MODIFIED:20250728T154036Z
UID:10000709-1903374000-1903377600@goldcoastna.org
SUMMARY:Public Relations Subcommittee
DESCRIPTION:
URL:https://goldcoastna.org/event/public-relations-subcommittee-2/2030-04-25/
LOCATION:SPIRITUAL CONNECTION OUTREACH COMMUNITY CENTER\, 5975 SUNRISE BOULEVARD\, SUITE 210\, SUNRISE\, FL\, 33313\, United States
CATEGORIES:Service Committees
ATTACH;FMTTYPE=image/png:https://goldcoastna.org/wp-content/uploads/2024/10/GoldCoastAreaSubcommittees.png
END:VEVENT
BEGIN:VEVENT
DTSTART;TZID=America/New_York:20300430T200000
DTEND;TZID=America/New_York:20300430T210000
DTSTAMP:20260421T010850
CREATED:20260414T201935Z
LAST-MODIFIED:20260414T201935Z
UID:10001318-1903809600-1903813200@goldcoastna.org
SUMMARY:Women of substance meeting moved
DESCRIPTION:Women of substance meeting changed locations and time.\nEvery Tuesday 8-9pm\nAt Safety town\n520 Ramblewood Dr\nCoral springs\, FL 33071
URL:https://goldcoastna.org/event/women-of-substance-meeting-moved/2030-04-30/
ATTACH;FMTTYPE=image/jpeg:https://goldcoastna.org/wp-content/uploads/2025/12/1000041515.jpg
END:VEVENT
BEGIN:VEVENT
DTSTART;TZID=America/New_York:20300506T190000
DTEND;TZID=America/New_York:20300506T200000
DTSTAMP:20260421T010850
CREATED:20241001T170043Z
LAST-MODIFIED:20250724T131839Z
UID:10000590-1904324400-1904328000@goldcoastna.org
SUMMARY:Hospitals and Institutions Subcommittee
DESCRIPTION:Orientation is from 6:00 pm to 7:00 pm \nSubcommittee is 7:00 pm to 8:00 pm
URL:https://goldcoastna.org/event/hospitals-and-institutions-subcommittee/2030-05-06/
LOCATION:River of Grass Unitarian Universalist Congregation\, 11850 West State Road 84 Suite 9\, Davie\, 33325\, United States
CATEGORIES:Service Committees
ATTACH;FMTTYPE=image/png:https://goldcoastna.org/wp-content/uploads/2024/10/GoldCoastAreaSubcommittees.png
END:VEVENT
BEGIN:VEVENT
DTSTART;TZID=America/New_York:20300507T190000
DTEND;TZID=America/New_York:20300507T200000
DTSTAMP:20260421T010850
CREATED:20240928T161409Z
LAST-MODIFIED:20250728T154359Z
UID:10000788-1904410800-1904414400@goldcoastna.org
SUMMARY:Activities Subcommittee Meeting
DESCRIPTION:Activities Subcommittee meets every first and third Tuesday
URL:https://goldcoastna.org/event/activities-subcommittee-meeting/2030-05-07/
LOCATION:Dunkin Donuts\, 1405 SW 26 Ave\, Pompano Beach\, FL\, 33069\, United States
CATEGORIES:Activities Subcommittee
ATTACH;FMTTYPE=image/png:https://goldcoastna.org/wp-content/uploads/2024/10/GoldCoastAreaSubcommittees.png
END:VEVENT
BEGIN:VEVENT
DTSTART;TZID=America/New_York:20300507T200000
DTEND;TZID=America/New_York:20300507T210000
DTSTAMP:20260421T010850
CREATED:20260414T201935Z
LAST-MODIFIED:20260414T201935Z
UID:10001319-1904414400-1904418000@goldcoastna.org
SUMMARY:Women of substance meeting moved
DESCRIPTION:Women of substance meeting changed locations and time.\nEvery Tuesday 8-9pm\nAt Safety town\n520 Ramblewood Dr\nCoral springs\, FL 33071
URL:https://goldcoastna.org/event/women-of-substance-meeting-moved/2030-05-07/
ATTACH;FMTTYPE=image/jpeg:https://goldcoastna.org/wp-content/uploads/2025/12/1000041515.jpg
END:VEVENT
BEGIN:VEVENT
DTSTART;TZID=America/New_York:20300512T130000
DTEND;TZID=America/New_York:20300512T170000
DTSTAMP:20260421T010850
CREATED:20241001T155510Z
LAST-MODIFIED:20250728T154238Z
UID:10000780-1904821200-1904835600@goldcoastna.org
SUMMARY:Area Service Committee
DESCRIPTION:Area service committees are ultimately responsible to the groups they serve. Narcotics Anonymous groups send group service representatives (GSRs) to serve on the area committee. While still maintaining final responsibility and authority for area services\, they invest enough delegated authority in their GSRs—and through them\, in the area committee—for the necessary work to get done. NA groups also send money to the area committee\, money needed to coordinate panels\, maintain phonelines\, and conduct public information activities. Through their contributions of money and manpower\, the groups exercise both their responsibility and their authority for NA services. How does the area service committee relate in turn to NA’s regional and world services? In much the same way as the group relates to the area committee: through carefully selected representatives who are delegated the authority necessary for effective service.
URL:https://goldcoastna.org/event/area-service-committee/2030-05-12/
LOCATION:Our Place II\, 8447 W. McNab Rd\, Tamarac\, FL\, 33321\, United States
CATEGORIES:Service Committees
END:VEVENT
BEGIN:VEVENT
DTSTART;TZID=America/New_York:20300514T190000
DTEND;TZID=America/New_York:20300514T210000
DTSTAMP:20260421T010850
CREATED:20241001T163033Z
LAST-MODIFIED:20250728T174857Z
UID:10000796-1905015600-1905022800@goldcoastna.org
SUMMARY:Convention Subcommittee (GCCNA)
DESCRIPTION:
URL:https://goldcoastna.org/event/convention-subcommittee-gccna/2030-05-14/
LOCATION:SPIRITUAL CONNECTION OUTREACH COMMUNITY CENTER\, 5975 SUNRISE BOULEVARD\, SUITE 210\, SUNRISE\, FL\, 33313\, United States
CATEGORIES:Service Committees
ATTACH;FMTTYPE=image/png:https://goldcoastna.org/wp-content/uploads/2024/10/GoldCoastAreaSubcommittees.png
END:VEVENT
BEGIN:VEVENT
DTSTART;TZID=America/New_York:20300514T200000
DTEND;TZID=America/New_York:20300514T210000
DTSTAMP:20260421T010850
CREATED:20260414T201935Z
LAST-MODIFIED:20260414T201935Z
UID:10001320-1905019200-1905022800@goldcoastna.org
SUMMARY:Women of substance meeting moved
DESCRIPTION:Women of substance meeting changed locations and time.\nEvery Tuesday 8-9pm\nAt Safety town\n520 Ramblewood Dr\nCoral springs\, FL 33071
URL:https://goldcoastna.org/event/women-of-substance-meeting-moved/2030-05-14/
ATTACH;FMTTYPE=image/jpeg:https://goldcoastna.org/wp-content/uploads/2025/12/1000041515.jpg
END:VEVENT
BEGIN:VEVENT
DTSTART;TZID=America/New_York:20300521T200000
DTEND;TZID=America/New_York:20300521T210000
DTSTAMP:20260421T010850
CREATED:20260414T201935Z
LAST-MODIFIED:20260414T201935Z
UID:10001321-1905624000-1905627600@goldcoastna.org
SUMMARY:Women of substance meeting moved
DESCRIPTION:Women of substance meeting changed locations and time.\nEvery Tuesday 8-9pm\nAt Safety town\n520 Ramblewood Dr\nCoral springs\, FL 33071
URL:https://goldcoastna.org/event/women-of-substance-meeting-moved/2030-05-21/
ATTACH;FMTTYPE=image/jpeg:https://goldcoastna.org/wp-content/uploads/2025/12/1000041515.jpg
END:VEVENT
BEGIN:VEVENT
DTSTART;TZID=America/New_York:20300528T200000
DTEND;TZID=America/New_York:20300528T210000
DTSTAMP:20260421T010850
CREATED:20260414T201935Z
LAST-MODIFIED:20260414T201935Z
UID:10001322-1906228800-1906232400@goldcoastna.org
SUMMARY:Women of substance meeting moved
DESCRIPTION:Women of substance meeting changed locations and time.\nEvery Tuesday 8-9pm\nAt Safety town\n520 Ramblewood Dr\nCoral springs\, FL 33071
URL:https://goldcoastna.org/event/women-of-substance-meeting-moved/2030-05-28/
ATTACH;FMTTYPE=image/jpeg:https://goldcoastna.org/wp-content/uploads/2025/12/1000041515.jpg
END:VEVENT
BEGIN:VEVENT
DTSTART;TZID=America/New_York:20300530T190000
DTEND;TZID=America/New_York:20300530T200000
DTSTAMP:20260421T010850
CREATED:20250728T154035Z
LAST-MODIFIED:20250728T154036Z
UID:10000710-1906398000-1906401600@goldcoastna.org
SUMMARY:Public Relations Subcommittee
DESCRIPTION:
URL:https://goldcoastna.org/event/public-relations-subcommittee-2/2030-05-30/
LOCATION:SPIRITUAL CONNECTION OUTREACH COMMUNITY CENTER\, 5975 SUNRISE BOULEVARD\, SUITE 210\, SUNRISE\, FL\, 33313\, United States
CATEGORIES:Service Committees
ATTACH;FMTTYPE=image/png:https://goldcoastna.org/wp-content/uploads/2024/10/GoldCoastAreaSubcommittees.png
END:VEVENT
BEGIN:VEVENT
DTSTART;TZID=America/New_York:20300603T190000
DTEND;TZID=America/New_York:20300603T200000
DTSTAMP:20260421T010850
CREATED:20241001T170043Z
LAST-MODIFIED:20250724T131839Z
UID:10000591-1906743600-1906747200@goldcoastna.org
SUMMARY:Hospitals and Institutions Subcommittee
DESCRIPTION:Orientation is from 6:00 pm to 7:00 pm \nSubcommittee is 7:00 pm to 8:00 pm
URL:https://goldcoastna.org/event/hospitals-and-institutions-subcommittee/2030-06-03/
LOCATION:River of Grass Unitarian Universalist Congregation\, 11850 West State Road 84 Suite 9\, Davie\, 33325\, United States
CATEGORIES:Service Committees
ATTACH;FMTTYPE=image/png:https://goldcoastna.org/wp-content/uploads/2024/10/GoldCoastAreaSubcommittees.png
END:VEVENT
BEGIN:VEVENT
DTSTART;TZID=America/New_York:20300604T190000
DTEND;TZID=America/New_York:20300604T200000
DTSTAMP:20260421T010850
CREATED:20240928T161409Z
LAST-MODIFIED:20250728T154359Z
UID:10000789-1906830000-1906833600@goldcoastna.org
SUMMARY:Activities Subcommittee Meeting
DESCRIPTION:Activities Subcommittee meets every first and third Tuesday
URL:https://goldcoastna.org/event/activities-subcommittee-meeting/2030-06-04/
LOCATION:Dunkin Donuts\, 1405 SW 26 Ave\, Pompano Beach\, FL\, 33069\, United States
CATEGORIES:Activities Subcommittee
ATTACH;FMTTYPE=image/png:https://goldcoastna.org/wp-content/uploads/2024/10/GoldCoastAreaSubcommittees.png
END:VEVENT
END:VCALENDAR