BEGIN:VCALENDAR
VERSION:2.0
PRODID:-//Gold Coast Area - ECPv6.15.20//NONSGML v1.0//EN
CALSCALE:GREGORIAN
METHOD:PUBLISH
X-WR-CALNAME:Gold Coast Area
X-ORIGINAL-URL:https://goldcoastna.org
X-WR-CALDESC:Events for Gold Coast Area
REFRESH-INTERVAL;VALUE=DURATION:PT1H
X-Robots-Tag:noindex
X-PUBLISHED-TTL:PT1H
BEGIN:VTIMEZONE
TZID:America/New_York
BEGIN:DAYLIGHT
TZOFFSETFROM:-0500
TZOFFSETTO:-0400
TZNAME:EDT
DTSTART:20270314T070000
END:DAYLIGHT
BEGIN:STANDARD
TZOFFSETFROM:-0400
TZOFFSETTO:-0500
TZNAME:EST
DTSTART:20271107T060000
END:STANDARD
BEGIN:DAYLIGHT
TZOFFSETFROM:-0500
TZOFFSETTO:-0400
TZNAME:EDT
DTSTART:20280312T070000
END:DAYLIGHT
BEGIN:STANDARD
TZOFFSETFROM:-0400
TZOFFSETTO:-0500
TZNAME:EST
DTSTART:20281105T060000
END:STANDARD
BEGIN:DAYLIGHT
TZOFFSETFROM:-0500
TZOFFSETTO:-0400
TZNAME:EDT
DTSTART:20290311T070000
END:DAYLIGHT
BEGIN:STANDARD
TZOFFSETFROM:-0400
TZOFFSETTO:-0500
TZNAME:EST
DTSTART:20291104T060000
END:STANDARD
END:VTIMEZONE
BEGIN:VEVENT
DTSTART;TZID=America/New_York:20280215T200000
DTEND;TZID=America/New_York:20280215T210000
DTSTAMP:20260419T164400
CREATED:20260414T201935Z
LAST-MODIFIED:20260414T201935Z
UID:10001203-1834257600-1834261200@goldcoastna.org
SUMMARY:Women of substance meeting moved
DESCRIPTION:Women of substance meeting changed locations and time.\nEvery Tuesday 8-9pm\nAt Safety town\n520 Ramblewood Dr\nCoral springs\, FL 33071
URL:https://goldcoastna.org/event/women-of-substance-meeting-moved/2028-02-15/
ATTACH;FMTTYPE=image/jpeg:https://goldcoastna.org/wp-content/uploads/2025/12/1000041515.jpg
END:VEVENT
BEGIN:VEVENT
DTSTART;TZID=America/New_York:20280222T200000
DTEND;TZID=America/New_York:20280222T210000
DTSTAMP:20260419T164400
CREATED:20260414T201935Z
LAST-MODIFIED:20260414T201935Z
UID:10001204-1834862400-1834866000@goldcoastna.org
SUMMARY:Women of substance meeting moved
DESCRIPTION:Women of substance meeting changed locations and time.\nEvery Tuesday 8-9pm\nAt Safety town\n520 Ramblewood Dr\nCoral springs\, FL 33071
URL:https://goldcoastna.org/event/women-of-substance-meeting-moved/2028-02-22/
ATTACH;FMTTYPE=image/jpeg:https://goldcoastna.org/wp-content/uploads/2025/12/1000041515.jpg
END:VEVENT
BEGIN:VEVENT
DTSTART;TZID=America/New_York:20280224T190000
DTEND;TZID=America/New_York:20280224T200000
DTSTAMP:20260419T164400
CREATED:20250728T154035Z
LAST-MODIFIED:20250728T154036Z
UID:10000683-1835031600-1835035200@goldcoastna.org
SUMMARY:Public Relations Subcommittee
DESCRIPTION:
URL:https://goldcoastna.org/event/public-relations-subcommittee-2/2028-02-24/
LOCATION:SPIRITUAL CONNECTION OUTREACH COMMUNITY CENTER\, 5975 SUNRISE BOULEVARD\, SUITE 210\, SUNRISE\, FL\, 33313\, United States
CATEGORIES:Service Committees
ATTACH;FMTTYPE=image/png:https://goldcoastna.org/wp-content/uploads/2024/10/GoldCoastAreaSubcommittees.png
END:VEVENT
BEGIN:VEVENT
DTSTART;TZID=America/New_York:20280229T200000
DTEND;TZID=America/New_York:20280229T210000
DTSTAMP:20260419T164400
CREATED:20260414T201935Z
LAST-MODIFIED:20260414T201935Z
UID:10001205-1835467200-1835470800@goldcoastna.org
SUMMARY:Women of substance meeting moved
DESCRIPTION:Women of substance meeting changed locations and time.\nEvery Tuesday 8-9pm\nAt Safety town\n520 Ramblewood Dr\nCoral springs\, FL 33071
URL:https://goldcoastna.org/event/women-of-substance-meeting-moved/2028-02-29/
ATTACH;FMTTYPE=image/jpeg:https://goldcoastna.org/wp-content/uploads/2025/12/1000041515.jpg
END:VEVENT
BEGIN:VEVENT
DTSTART;TZID=America/New_York:20280306T190000
DTEND;TZID=America/New_York:20280306T200000
DTSTAMP:20260419T164400
CREATED:20241001T170043Z
LAST-MODIFIED:20250724T131839Z
UID:10000283-1835982000-1835985600@goldcoastna.org
SUMMARY:Hospitals and Institutions Subcommittee
DESCRIPTION:Orientation is from 6:00 pm to 7:00 pm \nSubcommittee is 7:00 pm to 8:00 pm
URL:https://goldcoastna.org/event/hospitals-and-institutions-subcommittee/2028-03-06/
LOCATION:River of Grass Unitarian Universalist Congregation\, 11850 West State Road 84 Suite 9\, Davie\, 33325\, United States
CATEGORIES:Service Committees
ATTACH;FMTTYPE=image/png:https://goldcoastna.org/wp-content/uploads/2024/10/GoldCoastAreaSubcommittees.png
END:VEVENT
BEGIN:VEVENT
DTSTART;TZID=America/New_York:20280307T190000
DTEND;TZID=America/New_York:20280307T200000
DTSTAMP:20260419T164400
CREATED:20240928T161409Z
LAST-MODIFIED:20250728T154359Z
UID:10000043-1836068400-1836072000@goldcoastna.org
SUMMARY:Activities Subcommittee Meeting
DESCRIPTION:Activities Subcommittee meets every first and third Tuesday
URL:https://goldcoastna.org/event/activities-subcommittee-meeting/2028-03-07/
LOCATION:Dunkin Donuts\, 1405 SW 26 Ave\, Pompano Beach\, FL\, 33069\, United States
CATEGORIES:Activities Subcommittee
ATTACH;FMTTYPE=image/png:https://goldcoastna.org/wp-content/uploads/2024/10/GoldCoastAreaSubcommittees.png
END:VEVENT
BEGIN:VEVENT
DTSTART;TZID=America/New_York:20280307T200000
DTEND;TZID=America/New_York:20280307T210000
DTSTAMP:20260419T164400
CREATED:20260414T201935Z
LAST-MODIFIED:20260414T201935Z
UID:10001206-1836072000-1836075600@goldcoastna.org
SUMMARY:Women of substance meeting moved
DESCRIPTION:Women of substance meeting changed locations and time.\nEvery Tuesday 8-9pm\nAt Safety town\n520 Ramblewood Dr\nCoral springs\, FL 33071
URL:https://goldcoastna.org/event/women-of-substance-meeting-moved/2028-03-07/
ATTACH;FMTTYPE=image/jpeg:https://goldcoastna.org/wp-content/uploads/2025/12/1000041515.jpg
END:VEVENT
BEGIN:VEVENT
DTSTART;TZID=America/New_York:20280312T130000
DTEND;TZID=America/New_York:20280312T170000
DTSTAMP:20260419T164400
CREATED:20241001T155510Z
LAST-MODIFIED:20250728T154238Z
UID:10000754-1836478800-1836493200@goldcoastna.org
SUMMARY:Area Service Committee
DESCRIPTION:Area service committees are ultimately responsible to the groups they serve. Narcotics Anonymous groups send group service representatives (GSRs) to serve on the area committee. While still maintaining final responsibility and authority for area services\, they invest enough delegated authority in their GSRs—and through them\, in the area committee—for the necessary work to get done. NA groups also send money to the area committee\, money needed to coordinate panels\, maintain phonelines\, and conduct public information activities. Through their contributions of money and manpower\, the groups exercise both their responsibility and their authority for NA services. How does the area service committee relate in turn to NA’s regional and world services? In much the same way as the group relates to the area committee: through carefully selected representatives who are delegated the authority necessary for effective service.
URL:https://goldcoastna.org/event/area-service-committee/2028-03-12/
LOCATION:Our Place II\, 8447 W. McNab Rd\, Tamarac\, FL\, 33321\, United States
CATEGORIES:Service Committees
END:VEVENT
BEGIN:VEVENT
DTSTART;TZID=America/New_York:20280314T190000
DTEND;TZID=America/New_York:20280314T210000
DTSTAMP:20260419T164400
CREATED:20241001T163033Z
LAST-MODIFIED:20250728T174857Z
UID:10000163-1836673200-1836680400@goldcoastna.org
SUMMARY:Convention Subcommittee (GCCNA)
DESCRIPTION:
URL:https://goldcoastna.org/event/convention-subcommittee-gccna/2028-03-14/
LOCATION:SPIRITUAL CONNECTION OUTREACH COMMUNITY CENTER\, 5975 SUNRISE BOULEVARD\, SUITE 210\, SUNRISE\, FL\, 33313\, United States
CATEGORIES:Service Committees
ATTACH;FMTTYPE=image/png:https://goldcoastna.org/wp-content/uploads/2024/10/GoldCoastAreaSubcommittees.png
END:VEVENT
BEGIN:VEVENT
DTSTART;TZID=America/New_York:20280314T200000
DTEND;TZID=America/New_York:20280314T210000
DTSTAMP:20260419T164400
CREATED:20260414T201935Z
LAST-MODIFIED:20260414T201935Z
UID:10001207-1836676800-1836680400@goldcoastna.org
SUMMARY:Women of substance meeting moved
DESCRIPTION:Women of substance meeting changed locations and time.\nEvery Tuesday 8-9pm\nAt Safety town\n520 Ramblewood Dr\nCoral springs\, FL 33071
URL:https://goldcoastna.org/event/women-of-substance-meeting-moved/2028-03-14/
ATTACH;FMTTYPE=image/jpeg:https://goldcoastna.org/wp-content/uploads/2025/12/1000041515.jpg
END:VEVENT
BEGIN:VEVENT
DTSTART;TZID=America/New_York:20280321T200000
DTEND;TZID=America/New_York:20280321T210000
DTSTAMP:20260419T164400
CREATED:20260414T201935Z
LAST-MODIFIED:20260414T201935Z
UID:10001208-1837281600-1837285200@goldcoastna.org
SUMMARY:Women of substance meeting moved
DESCRIPTION:Women of substance meeting changed locations and time.\nEvery Tuesday 8-9pm\nAt Safety town\n520 Ramblewood Dr\nCoral springs\, FL 33071
URL:https://goldcoastna.org/event/women-of-substance-meeting-moved/2028-03-21/
ATTACH;FMTTYPE=image/jpeg:https://goldcoastna.org/wp-content/uploads/2025/12/1000041515.jpg
END:VEVENT
BEGIN:VEVENT
DTSTART;TZID=America/New_York:20280328T200000
DTEND;TZID=America/New_York:20280328T210000
DTSTAMP:20260419T164400
CREATED:20260414T201935Z
LAST-MODIFIED:20260414T201935Z
UID:10001209-1837886400-1837890000@goldcoastna.org
SUMMARY:Women of substance meeting moved
DESCRIPTION:Women of substance meeting changed locations and time.\nEvery Tuesday 8-9pm\nAt Safety town\n520 Ramblewood Dr\nCoral springs\, FL 33071
URL:https://goldcoastna.org/event/women-of-substance-meeting-moved/2028-03-28/
ATTACH;FMTTYPE=image/jpeg:https://goldcoastna.org/wp-content/uploads/2025/12/1000041515.jpg
END:VEVENT
BEGIN:VEVENT
DTSTART;TZID=America/New_York:20280330T190000
DTEND;TZID=America/New_York:20280330T200000
DTSTAMP:20260419T164400
CREATED:20250728T154035Z
LAST-MODIFIED:20250728T154036Z
UID:10000684-1838055600-1838059200@goldcoastna.org
SUMMARY:Public Relations Subcommittee
DESCRIPTION:
URL:https://goldcoastna.org/event/public-relations-subcommittee-2/2028-03-30/
LOCATION:SPIRITUAL CONNECTION OUTREACH COMMUNITY CENTER\, 5975 SUNRISE BOULEVARD\, SUITE 210\, SUNRISE\, FL\, 33313\, United States
CATEGORIES:Service Committees
ATTACH;FMTTYPE=image/png:https://goldcoastna.org/wp-content/uploads/2024/10/GoldCoastAreaSubcommittees.png
END:VEVENT
BEGIN:VEVENT
DTSTART;TZID=America/New_York:20280403T190000
DTEND;TZID=America/New_York:20280403T200000
DTSTAMP:20260419T164400
CREATED:20241001T170043Z
LAST-MODIFIED:20250724T131839Z
UID:10000284-1838401200-1838404800@goldcoastna.org
SUMMARY:Hospitals and Institutions Subcommittee
DESCRIPTION:Orientation is from 6:00 pm to 7:00 pm \nSubcommittee is 7:00 pm to 8:00 pm
URL:https://goldcoastna.org/event/hospitals-and-institutions-subcommittee/2028-04-03/
LOCATION:River of Grass Unitarian Universalist Congregation\, 11850 West State Road 84 Suite 9\, Davie\, 33325\, United States
CATEGORIES:Service Committees
ATTACH;FMTTYPE=image/png:https://goldcoastna.org/wp-content/uploads/2024/10/GoldCoastAreaSubcommittees.png
END:VEVENT
BEGIN:VEVENT
DTSTART;TZID=America/New_York:20280404T190000
DTEND;TZID=America/New_York:20280404T200000
DTSTAMP:20260419T164400
CREATED:20240928T161409Z
LAST-MODIFIED:20250728T154359Z
UID:10000044-1838487600-1838491200@goldcoastna.org
SUMMARY:Activities Subcommittee Meeting
DESCRIPTION:Activities Subcommittee meets every first and third Tuesday
URL:https://goldcoastna.org/event/activities-subcommittee-meeting/2028-04-04/
LOCATION:Dunkin Donuts\, 1405 SW 26 Ave\, Pompano Beach\, FL\, 33069\, United States
CATEGORIES:Activities Subcommittee
ATTACH;FMTTYPE=image/png:https://goldcoastna.org/wp-content/uploads/2024/10/GoldCoastAreaSubcommittees.png
END:VEVENT
BEGIN:VEVENT
DTSTART;TZID=America/New_York:20280404T200000
DTEND;TZID=America/New_York:20280404T210000
DTSTAMP:20260419T164400
CREATED:20260414T201935Z
LAST-MODIFIED:20260414T201935Z
UID:10001210-1838491200-1838494800@goldcoastna.org
SUMMARY:Women of substance meeting moved
DESCRIPTION:Women of substance meeting changed locations and time.\nEvery Tuesday 8-9pm\nAt Safety town\n520 Ramblewood Dr\nCoral springs\, FL 33071
URL:https://goldcoastna.org/event/women-of-substance-meeting-moved/2028-04-04/
ATTACH;FMTTYPE=image/jpeg:https://goldcoastna.org/wp-content/uploads/2025/12/1000041515.jpg
END:VEVENT
BEGIN:VEVENT
DTSTART;TZID=America/New_York:20280409T130000
DTEND;TZID=America/New_York:20280409T170000
DTSTAMP:20260419T164400
CREATED:20241001T155510Z
LAST-MODIFIED:20250728T154238Z
UID:10000755-1838898000-1838912400@goldcoastna.org
SUMMARY:Area Service Committee
DESCRIPTION:Area service committees are ultimately responsible to the groups they serve. Narcotics Anonymous groups send group service representatives (GSRs) to serve on the area committee. While still maintaining final responsibility and authority for area services\, they invest enough delegated authority in their GSRs—and through them\, in the area committee—for the necessary work to get done. NA groups also send money to the area committee\, money needed to coordinate panels\, maintain phonelines\, and conduct public information activities. Through their contributions of money and manpower\, the groups exercise both their responsibility and their authority for NA services. How does the area service committee relate in turn to NA’s regional and world services? In much the same way as the group relates to the area committee: through carefully selected representatives who are delegated the authority necessary for effective service.
URL:https://goldcoastna.org/event/area-service-committee/2028-04-09/
LOCATION:Our Place II\, 8447 W. McNab Rd\, Tamarac\, FL\, 33321\, United States
CATEGORIES:Service Committees
END:VEVENT
BEGIN:VEVENT
DTSTART;TZID=America/New_York:20280411T190000
DTEND;TZID=America/New_York:20280411T210000
DTSTAMP:20260419T164400
CREATED:20241001T163033Z
LAST-MODIFIED:20250728T174857Z
UID:10000164-1839092400-1839099600@goldcoastna.org
SUMMARY:Convention Subcommittee (GCCNA)
DESCRIPTION:
URL:https://goldcoastna.org/event/convention-subcommittee-gccna/2028-04-11/
LOCATION:SPIRITUAL CONNECTION OUTREACH COMMUNITY CENTER\, 5975 SUNRISE BOULEVARD\, SUITE 210\, SUNRISE\, FL\, 33313\, United States
CATEGORIES:Service Committees
ATTACH;FMTTYPE=image/png:https://goldcoastna.org/wp-content/uploads/2024/10/GoldCoastAreaSubcommittees.png
END:VEVENT
BEGIN:VEVENT
DTSTART;TZID=America/New_York:20280411T200000
DTEND;TZID=America/New_York:20280411T210000
DTSTAMP:20260419T164400
CREATED:20260414T201935Z
LAST-MODIFIED:20260414T201935Z
UID:10001211-1839096000-1839099600@goldcoastna.org
SUMMARY:Women of substance meeting moved
DESCRIPTION:Women of substance meeting changed locations and time.\nEvery Tuesday 8-9pm\nAt Safety town\n520 Ramblewood Dr\nCoral springs\, FL 33071
URL:https://goldcoastna.org/event/women-of-substance-meeting-moved/2028-04-11/
ATTACH;FMTTYPE=image/jpeg:https://goldcoastna.org/wp-content/uploads/2025/12/1000041515.jpg
END:VEVENT
BEGIN:VEVENT
DTSTART;TZID=America/New_York:20280418T200000
DTEND;TZID=America/New_York:20280418T210000
DTSTAMP:20260419T164400
CREATED:20260414T201935Z
LAST-MODIFIED:20260414T201935Z
UID:10001212-1839700800-1839704400@goldcoastna.org
SUMMARY:Women of substance meeting moved
DESCRIPTION:Women of substance meeting changed locations and time.\nEvery Tuesday 8-9pm\nAt Safety town\n520 Ramblewood Dr\nCoral springs\, FL 33071
URL:https://goldcoastna.org/event/women-of-substance-meeting-moved/2028-04-18/
ATTACH;FMTTYPE=image/jpeg:https://goldcoastna.org/wp-content/uploads/2025/12/1000041515.jpg
END:VEVENT
BEGIN:VEVENT
DTSTART;TZID=America/New_York:20280425T200000
DTEND;TZID=America/New_York:20280425T210000
DTSTAMP:20260419T164400
CREATED:20260414T201935Z
LAST-MODIFIED:20260414T201935Z
UID:10001213-1840305600-1840309200@goldcoastna.org
SUMMARY:Women of substance meeting moved
DESCRIPTION:Women of substance meeting changed locations and time.\nEvery Tuesday 8-9pm\nAt Safety town\n520 Ramblewood Dr\nCoral springs\, FL 33071
URL:https://goldcoastna.org/event/women-of-substance-meeting-moved/2028-04-25/
ATTACH;FMTTYPE=image/jpeg:https://goldcoastna.org/wp-content/uploads/2025/12/1000041515.jpg
END:VEVENT
BEGIN:VEVENT
DTSTART;TZID=America/New_York:20280427T190000
DTEND;TZID=America/New_York:20280427T200000
DTSTAMP:20260419T164400
CREATED:20250728T154035Z
LAST-MODIFIED:20250728T154036Z
UID:10000685-1840474800-1840478400@goldcoastna.org
SUMMARY:Public Relations Subcommittee
DESCRIPTION:
URL:https://goldcoastna.org/event/public-relations-subcommittee-2/2028-04-27/
LOCATION:SPIRITUAL CONNECTION OUTREACH COMMUNITY CENTER\, 5975 SUNRISE BOULEVARD\, SUITE 210\, SUNRISE\, FL\, 33313\, United States
CATEGORIES:Service Committees
ATTACH;FMTTYPE=image/png:https://goldcoastna.org/wp-content/uploads/2024/10/GoldCoastAreaSubcommittees.png
END:VEVENT
BEGIN:VEVENT
DTSTART;TZID=America/New_York:20280501T190000
DTEND;TZID=America/New_York:20280501T200000
DTSTAMP:20260419T164400
CREATED:20241001T170043Z
LAST-MODIFIED:20250724T131839Z
UID:10000285-1840820400-1840824000@goldcoastna.org
SUMMARY:Hospitals and Institutions Subcommittee
DESCRIPTION:Orientation is from 6:00 pm to 7:00 pm \nSubcommittee is 7:00 pm to 8:00 pm
URL:https://goldcoastna.org/event/hospitals-and-institutions-subcommittee/2028-05-01/
LOCATION:River of Grass Unitarian Universalist Congregation\, 11850 West State Road 84 Suite 9\, Davie\, 33325\, United States
CATEGORIES:Service Committees
ATTACH;FMTTYPE=image/png:https://goldcoastna.org/wp-content/uploads/2024/10/GoldCoastAreaSubcommittees.png
END:VEVENT
BEGIN:VEVENT
DTSTART;TZID=America/New_York:20280502T190000
DTEND;TZID=America/New_York:20280502T200000
DTSTAMP:20260419T164400
CREATED:20240928T161409Z
LAST-MODIFIED:20250728T154359Z
UID:10000045-1840906800-1840910400@goldcoastna.org
SUMMARY:Activities Subcommittee Meeting
DESCRIPTION:Activities Subcommittee meets every first and third Tuesday
URL:https://goldcoastna.org/event/activities-subcommittee-meeting/2028-05-02/
LOCATION:Dunkin Donuts\, 1405 SW 26 Ave\, Pompano Beach\, FL\, 33069\, United States
CATEGORIES:Activities Subcommittee
ATTACH;FMTTYPE=image/png:https://goldcoastna.org/wp-content/uploads/2024/10/GoldCoastAreaSubcommittees.png
END:VEVENT
BEGIN:VEVENT
DTSTART;TZID=America/New_York:20280502T200000
DTEND;TZID=America/New_York:20280502T210000
DTSTAMP:20260419T164400
CREATED:20260414T201935Z
LAST-MODIFIED:20260414T201935Z
UID:10001214-1840910400-1840914000@goldcoastna.org
SUMMARY:Women of substance meeting moved
DESCRIPTION:Women of substance meeting changed locations and time.\nEvery Tuesday 8-9pm\nAt Safety town\n520 Ramblewood Dr\nCoral springs\, FL 33071
URL:https://goldcoastna.org/event/women-of-substance-meeting-moved/2028-05-02/
ATTACH;FMTTYPE=image/jpeg:https://goldcoastna.org/wp-content/uploads/2025/12/1000041515.jpg
END:VEVENT
BEGIN:VEVENT
DTSTART;TZID=America/New_York:20280509T190000
DTEND;TZID=America/New_York:20280509T210000
DTSTAMP:20260419T164400
CREATED:20241001T163033Z
LAST-MODIFIED:20250728T174857Z
UID:10000165-1841511600-1841518800@goldcoastna.org
SUMMARY:Convention Subcommittee (GCCNA)
DESCRIPTION:
URL:https://goldcoastna.org/event/convention-subcommittee-gccna/2028-05-09/
LOCATION:SPIRITUAL CONNECTION OUTREACH COMMUNITY CENTER\, 5975 SUNRISE BOULEVARD\, SUITE 210\, SUNRISE\, FL\, 33313\, United States
CATEGORIES:Service Committees
ATTACH;FMTTYPE=image/png:https://goldcoastna.org/wp-content/uploads/2024/10/GoldCoastAreaSubcommittees.png
END:VEVENT
BEGIN:VEVENT
DTSTART;TZID=America/New_York:20280509T200000
DTEND;TZID=America/New_York:20280509T210000
DTSTAMP:20260419T164400
CREATED:20260414T201935Z
LAST-MODIFIED:20260414T201935Z
UID:10001215-1841515200-1841518800@goldcoastna.org
SUMMARY:Women of substance meeting moved
DESCRIPTION:Women of substance meeting changed locations and time.\nEvery Tuesday 8-9pm\nAt Safety town\n520 Ramblewood Dr\nCoral springs\, FL 33071
URL:https://goldcoastna.org/event/women-of-substance-meeting-moved/2028-05-09/
ATTACH;FMTTYPE=image/jpeg:https://goldcoastna.org/wp-content/uploads/2025/12/1000041515.jpg
END:VEVENT
BEGIN:VEVENT
DTSTART;TZID=America/New_York:20280514T130000
DTEND;TZID=America/New_York:20280514T170000
DTSTAMP:20260419T164400
CREATED:20241001T155510Z
LAST-MODIFIED:20250728T154238Z
UID:10000756-1841922000-1841936400@goldcoastna.org
SUMMARY:Area Service Committee
DESCRIPTION:Area service committees are ultimately responsible to the groups they serve. Narcotics Anonymous groups send group service representatives (GSRs) to serve on the area committee. While still maintaining final responsibility and authority for area services\, they invest enough delegated authority in their GSRs—and through them\, in the area committee—for the necessary work to get done. NA groups also send money to the area committee\, money needed to coordinate panels\, maintain phonelines\, and conduct public information activities. Through their contributions of money and manpower\, the groups exercise both their responsibility and their authority for NA services. How does the area service committee relate in turn to NA’s regional and world services? In much the same way as the group relates to the area committee: through carefully selected representatives who are delegated the authority necessary for effective service.
URL:https://goldcoastna.org/event/area-service-committee/2028-05-14/
LOCATION:Our Place II\, 8447 W. McNab Rd\, Tamarac\, FL\, 33321\, United States
CATEGORIES:Service Committees
END:VEVENT
BEGIN:VEVENT
DTSTART;TZID=America/New_York:20280516T200000
DTEND;TZID=America/New_York:20280516T210000
DTSTAMP:20260419T164400
CREATED:20260414T201935Z
LAST-MODIFIED:20260414T201935Z
UID:10001216-1842120000-1842123600@goldcoastna.org
SUMMARY:Women of substance meeting moved
DESCRIPTION:Women of substance meeting changed locations and time.\nEvery Tuesday 8-9pm\nAt Safety town\n520 Ramblewood Dr\nCoral springs\, FL 33071
URL:https://goldcoastna.org/event/women-of-substance-meeting-moved/2028-05-16/
ATTACH;FMTTYPE=image/jpeg:https://goldcoastna.org/wp-content/uploads/2025/12/1000041515.jpg
END:VEVENT
BEGIN:VEVENT
DTSTART;TZID=America/New_York:20280523T200000
DTEND;TZID=America/New_York:20280523T210000
DTSTAMP:20260419T164400
CREATED:20260414T201935Z
LAST-MODIFIED:20260414T201935Z
UID:10001217-1842724800-1842728400@goldcoastna.org
SUMMARY:Women of substance meeting moved
DESCRIPTION:Women of substance meeting changed locations and time.\nEvery Tuesday 8-9pm\nAt Safety town\n520 Ramblewood Dr\nCoral springs\, FL 33071
URL:https://goldcoastna.org/event/women-of-substance-meeting-moved/2028-05-23/
ATTACH;FMTTYPE=image/jpeg:https://goldcoastna.org/wp-content/uploads/2025/12/1000041515.jpg
END:VEVENT
END:VCALENDAR