BEGIN:VCALENDAR
VERSION:2.0
PRODID:-//Gold Coast Area - ECPv6.15.20//NONSGML v1.0//EN
CALSCALE:GREGORIAN
METHOD:PUBLISH
X-WR-CALNAME:Gold Coast Area
X-ORIGINAL-URL:https://goldcoastna.org
X-WR-CALDESC:Events for Gold Coast Area
REFRESH-INTERVAL;VALUE=DURATION:PT1H
X-Robots-Tag:noindex
X-PUBLISHED-TTL:PT1H
BEGIN:VTIMEZONE
TZID:America/New_York
BEGIN:DAYLIGHT
TZOFFSETFROM:-0500
TZOFFSETTO:-0400
TZNAME:EDT
DTSTART:20250309T070000
END:DAYLIGHT
BEGIN:STANDARD
TZOFFSETFROM:-0400
TZOFFSETTO:-0500
TZNAME:EST
DTSTART:20251102T060000
END:STANDARD
BEGIN:DAYLIGHT
TZOFFSETFROM:-0500
TZOFFSETTO:-0400
TZNAME:EDT
DTSTART:20260308T070000
END:DAYLIGHT
BEGIN:STANDARD
TZOFFSETFROM:-0400
TZOFFSETTO:-0500
TZNAME:EST
DTSTART:20261101T060000
END:STANDARD
BEGIN:DAYLIGHT
TZOFFSETFROM:-0500
TZOFFSETTO:-0400
TZNAME:EDT
DTSTART:20270314T070000
END:DAYLIGHT
BEGIN:STANDARD
TZOFFSETFROM:-0400
TZOFFSETTO:-0500
TZNAME:EST
DTSTART:20271107T060000
END:STANDARD
END:VTIMEZONE
BEGIN:VEVENT
DTSTART;TZID=America/New_York:20260215T150000
DTEND;TZID=America/New_York:20260215T200000
DTSTAMP:20260425T115605
CREATED:20260122T163000Z
LAST-MODIFIED:20260122T163000Z
UID:10001358-1771167600-1771185600@goldcoastna.org
SUMMARY:Peace\, Love & Bingo
DESCRIPTION:Come join us dressed in your peace-lovin’ flower child 60s best – don’t forget the tie-dye! \nThe GCCNA XXXIV Fundraising and Entertainment committee invites you step into the 60s for a groovy Valentine’s Day NA celebration! Peace\, Love\, and Bingo is a fun-filled night of bingo\, fellowship\, and good vibes. Wear your tie-dye and flower-child best as we come together in unity\, laughter\, and love.
URL:https://goldcoastna.org/event/peace-love-bingo/
LOCATION:The Sanctuary Church FTL\, 1400 N Federal Hwy\, Fort Lauderdale\, FL\, 33304\, United States
CATEGORIES:Area Events,Convention GCCNA
ATTACH;FMTTYPE=image/png:https://goldcoastna.org/wp-content/uploads/2026/01/Peace-Love-Bingo-Flyer-1.png
ORGANIZER;CN="GCCNA":MAILTO:rhondacoren@gmail.com
END:VEVENT
BEGIN:VEVENT
DTSTART;TZID=America/New_York:20260321T170000
DTEND;TZID=America/New_York:20260321T210000
DTSTAMP:20260425T115605
CREATED:20260122T162736Z
LAST-MODIFIED:20260212T185547Z
UID:10001357-1774112400-1774126800@goldcoastna.org
SUMMARY:H&I Gratitude in Action Event
DESCRIPTION:Join the Gold Coast Area H&I Subcommittee for our 2026 Gratitude in Action Event: Our Primary Purpose – Carry the Message. \nThis special evening will bring our community together for fellowship\, learning\, and inspiration as we focus on carrying the message of recovery into hospitals and institutions. \nThe night begins with dinner at 5:00 PM\, followed by a Learning Day/Orientation at 6:00 PM for anyone interested in getting involved in H&I service\, and concludes with a powerful speaker at 7:00 PM. \n📍 Sanctuary Church\n1400 N Federal Hwy\nFort Lauderdale\, FL 33304\n📅 March 21\, 2026 \nWristbands: $20\nT-shirts: $20 (limited supply) \nCome connect\, get inspired\, and take action in service. We hope to see you there!
URL:https://goldcoastna.org/event/hi-gratitude-in-action-event/
LOCATION:The Sanctuary Church FTL\, 1400 N Federal Hwy\, Fort Lauderdale\, FL\, 33304\, United States
CATEGORIES:Area Events,Hospitals Institutions
ATTACH;FMTTYPE=image/png:https://goldcoastna.org/wp-content/uploads/2026/01/2026-Gratitude-in-Action-Flyer-1.png
END:VEVENT
END:VCALENDAR